BEGIN:VCALENDAR
VERSION:2.0
PRODID:-//wp-events-plugin.com//7.2.3.1//EN
TZID:Europe/Paris
X-WR-TIMEZONE:Europe/Paris
BEGIN:VEVENT
UID:96@ontestepourvousenpicardie.fr
DTSTART;TZID=Europe/Paris:20250913T133000
DTEND;TZID=Europe/Paris:20250913T150000
DTSTAMP:20250903T180852Z
URL:https://www.ontestepourvousenpicardie.fr/events/voyage-sonore-a-ham-av
 ec-o-douces-energies-2/
SUMMARY:Voyage sonore à Ham avec Ô douces énergies
DESCRIPTION:Mélissa\, sonothérapeute à Ognes\, propose un voyage sonore
  en groupe à Ham (Somme)\, samedi 13 septembre\n\nUne relaxation sonore 
 est une pratique qui permet de s’évader du tumulte quotidien en se pl
 ongeant dans un univers de sons apaisants et de vibrations bienfaisantes. 
 Allongés ou assis confortablement\, chaque participant est invité à se
  laisser emporter par les mélodies et les résonances produites par dive
 rs instruments de musique du monde\, tels que les bols tibétains\, la har
 pe en cristal\, le handpan…\n\nCette expérience immersive offre à chac
 un l’opportunité de se recentrer\, de libérer les tensions accumulées
  et de favoriser un état de calme profond.\n\nC’est un moment précieux
  pour se reconnecter à soi-même\, se détendre et se ressourcer dans un
  cadre accueillant et bienveillant. Que vous soyez novice ou habitué à c
 es pratiques\, la relaxation sonore est une invitation à un voyage intér
 ieur\, propice à la détente et au bien-être.\nVoyage sonore\, samedi 13
  septembre 2025 au 2\, rue André-Audinot à Ham\, de 13h30 à 15 heures. 
 Plus d’infos et inscriptions au 06 47 43 00 18. Places limitées à 16 p
 ersonnes. Tarif : 20 euros.\nVous souhaitez vous aussi annoncer un événe
 ment dans notre agenda en ligne\net sur nos réseaux sociaux ? Rendez-vou
 s ici !
ATTACH;FMTTYPE=image/jpeg:https://www.ontestepourvousenpicardie.fr/wp-cont
 ent/uploads/2025/07/IMG_7384-scaled.jpg
CATEGORIES:Nos idées sortie en Picardie
END:VEVENT
BEGIN:VTIMEZONE
TZID:Europe/Paris
X-LIC-LOCATION:Europe/Paris
BEGIN:DAYLIGHT
DTSTART:20250330T030000
TZOFFSETFROM:+0100
TZOFFSETTO:+0200
TZNAME:CEST
END:DAYLIGHT
END:VTIMEZONE
END:VCALENDAR