BEGIN:VCALENDAR
VERSION:2.0
PRODID:-//wp-events-plugin.com//7.2.3.1//EN
TZID:Europe/Paris
X-WR-TIMEZONE:Europe/Paris
BEGIN:VEVENT
UID:124@ontestepourvousenpicardie.fr
DTSTART;TZID=Europe/Paris:20251004T120000
DTEND;TZID=Europe/Paris:20251004T160000
DTSTAMP:20250930T201323Z
URL:https://www.ontestepourvousenpicardie.fr/events/une-seance-photo-dhall
 oween-pour-votre-chien-ou-chat-en-foret-de-creuse/
SUMMARY:Une séance photo d'Halloween pour votre chien ou chat en forêt pr
 ès d'Amiens
DESCRIPTION:Et si\, le temps d'une séance photo\, votre chien ou chat se t
 ransformait en loup-garou\, au cœur de la forêt de Creuse\, dans un nuag
 e de fumée\, entouré de citrouilles et fantômes ? Cécile\, photographe
  professionnelle\, organise un shooting spécial Halloween pour vos compag
 nons à quatre pattes\, ce samedi 4 octobre\, à partir de midi.\n\nL'occa
 sion d'immortaliser votre boule de poils dans une ambiance aussi magique q
 ue terrifiante. Attention\, les places sont limitées !\n\nLes séances du
 rent 30 minutes et ont lieu dans le bois de Creuse\, près d'Amiens. Les c
 oordonnées GPS du point de rendez-vous vous seront envoyées une fois l'a
 compte de réservation de la séance reçu. Il faut compter 5 minutes de m
 arche.\nSéance spéciale Halloween par Les Photos de Cécile\, samedi 4 o
 ctobre. Tarif : 50 euros les 30 minutes + trois photos numériques. Plus d
 'infos sur sa page Facebook\, son compte Instagram\, son site internet\, p
 ar mail à lesphotosdececile80@gmail.com ou au 07 71 77 38 59.
ATTACH;FMTTYPE=image/jpeg:https://www.ontestepourvousenpicardie.fr/wp-cont
 ent/uploads/2025/09/WhatsApp-Image-2025-09-30-at-22.00.04.jpeg
CATEGORIES:Nos idées sortie en Picardie
END:VEVENT
BEGIN:VTIMEZONE
TZID:Europe/Paris
X-LIC-LOCATION:Europe/Paris
BEGIN:DAYLIGHT
DTSTART:20250330T030000
TZOFFSETFROM:+0100
TZOFFSETTO:+0200
TZNAME:CEST
END:DAYLIGHT
END:VTIMEZONE
END:VCALENDAR