BEGIN:VCALENDAR
VERSION:2.0
PRODID:-//wp-events-plugin.com//7.2.3.1//EN
TZID:Europe/Paris
X-WR-TIMEZONE:Europe/Paris
BEGIN:VEVENT
UID:113@ontestepourvousenpicardie.fr
DTSTART;TZID=Europe/Paris:20251018T143000
DTEND;TZID=Europe/Paris:20251018T163000
DTSTAMP:20250923T161508Z
URL:https://www.ontestepourvousenpicardie.fr/events/une-randonnee-a-enigme
 s-en-faveur-doctobre-rose-a-bussus-les-yaucourt/
SUMMARY:Une randonnée à énigmes en faveur d’Octobre rose à Bussus-lè
 s-Yaucourt
DESCRIPTION:L’association Les Zhironloins se mobilise cette année pour l
 a lutte contre le cancer du sein en organisant pour la première fois une 
 randonnée à énigmes à l’occasion d’Octobre Rose. L’événement s
 e tiendra le vendredi 18 octobre\, à Yaucourt-Bussus (Somme).\nOriginale 
 et accessible à tous\, cette randonnée pas comme les autres promet un mo
 ment ludique\, solidaire et convivial. Ouverte aux petits comme aux grands
 \, elle invite les participants à résoudre des énigmes tout au long d
 ’un parcours estimé entre 8 et 10 km. Chaque équipe empruntera un itin
 éraire différent\, rendant l’expérience encore plus immersive et uniq
 ue.\nLe départ se fera à 14h30 depuis la salle des fêtes de Yaucourt-Bu
 ssus. Aucune réservation n’est nécessaire\, mais une donation minimale
  de 2 euros est demandée pour participer.\nSur place\, les visiteurs pour
 ront également profiter d’une restauration et d’une buvette\, ainsi q
 ue d’autres animations.\n\nPlus d'infos sur la page Facebook de l'associ
 ation\, par mail à leszhironloins@gmail.com\, sur leur site internet ou a
 u 06 25 33 30 68.\n\nVous organisez un événement dans le cadre d’Octob
 re Rose en Picardie ?\nNous l’ajoutons gratuitement à cet agenda pour s
 outenir la cause.\n \n👉 Il suffit de nous envoyer les informations par 
 mail à : ontestepourvousenpicardie@gmail.com
ATTACH;FMTTYPE=image/jpeg:https://www.ontestepourvousenpicardie.fr/wp-cont
 ent/uploads/2025/09/bussus.png
CATEGORIES:Nos idées sortie en Picardie
END:VEVENT
BEGIN:VTIMEZONE
TZID:Europe/Paris
X-LIC-LOCATION:Europe/Paris
BEGIN:DAYLIGHT
DTSTART:20250330T030000
TZOFFSETFROM:+0100
TZOFFSETTO:+0200
TZNAME:CEST
END:DAYLIGHT
END:VTIMEZONE
END:VCALENDAR