BEGIN:VCALENDAR
VERSION:2.0
PRODID:-//wp-events-plugin.com//7.2.3.1//EN
TZID:Europe/Paris
X-WR-TIMEZONE:Europe/Paris
BEGIN:VEVENT
UID:93@ontestepourvousenpicardie.fr
DTSTART;TZID=Europe/Paris:20250829T193000
DTEND;TZID=Europe/Paris:20250829T204500
DTSTAMP:20250801T122723Z
URL:https://www.ontestepourvousenpicardie.fr/events/un-voyage-sonore-a-la-
 caravane-dart-a-chauny/
SUMMARY:Un voyage sonore à la Caravane d'art\, à Chauny
DESCRIPTION:Mélissa\, sonothérapeute à Ognes sous le nom de Douces éner
 gies\, organise un voyage sonore vendredi 29 août à la Caravane d'art\, 
 à Chauny (Aisne)\, "un moment de détente profonde hors du temps\, guidé
  par les sons bienfaisants de la sonothérapie".\n\nLe rendez-vous est don
 né à 19h30\, au 4 rue de la Barrière. Il s'agit d'un moment en groupe. 
 Chacun pourra s'allonger ou s'asseoir\, confortablement. Mélissa invitera
  alors les participants à se laisser bercer par la musique et le son de s
 a voix afin de partir à la rencontre des sons et des vibrations.\n\nMéli
 ssa utilisera différents instruments de musique du monde (flûte amérind
 ienne\, bols tibétains\, sansula\, handpan\, tongue drum\, bols en crista
 l\, songpods...)\n\nUne pause hors du temps\, de laquelle chacun ressortir
 a détendu.\nVoyage sonore\, vendredi 29 août 2025 de 19h30 à 20h45 à 
 à la Caravane d'art\, 4 rue de la Barrière à Chauny. Tarif : 20 euros l
 a séance. Plus d'infos et réservation au 06.47.43.00.18\nVous souhaitez 
 annoncer votre événement dans notre agenda en ligne ? Rendez-vous ici !
ATTACH;FMTTYPE=image/jpeg:https://www.ontestepourvousenpicardie.fr/wp-cont
 ent/uploads/2025/07/IMG_7341-scaled.jpg
CATEGORIES:Nos idées sortie en Picardie
END:VEVENT
BEGIN:VTIMEZONE
TZID:Europe/Paris
X-LIC-LOCATION:Europe/Paris
BEGIN:DAYLIGHT
DTSTART:20250330T030000
TZOFFSETFROM:+0100
TZOFFSETTO:+0200
TZNAME:CEST
END:DAYLIGHT
END:VTIMEZONE
END:VCALENDAR