BEGIN:VCALENDAR
VERSION:2.0
PRODID:-//wp-events-plugin.com//7.2.3.1//EN
TZID:Europe/Paris
X-WR-TIMEZONE:Europe/Paris
BEGIN:VEVENT
UID:102@ontestepourvousenpicardie.fr
DTSTART;TZID=Europe/Paris;VALUE=DATE:20251031
DTEND;TZID=Europe/Paris;VALUE=DATE:20251103
DTSTAMP:20251020T215500Z
URL:https://www.ontestepourvousenpicardie.fr/events/un-marche-dautomne-inc
 ontournable-a-breuilly-pour-halloween/
SUMMARY:Un marché d’automne incontournable à Breilly pour Halloween
DESCRIPTION:Le petit village de Breilly compte 700 habitants\, et Sandy\, p
 résidente de l'association Vital Fitness\, a bien décidé de doubler sa 
 population lors du prochain événement organisé par son association : un
  marché d'automne\, qui se tiendra du vendredi 31 octobre au dimanche 2 n
 ovembre 2025.\n\n"Ca fait onze ans que notre association existe. Avant le 
 Covid\, on organisait deux trois fois par an des salons forme/bien-être e
 t des marchés de Noël. Tout cela s'est arrêté mais on est toujours là
 \, on a tenu bon\, on est content ! Pas mal de gens et d'anciens exposants
  ont demandé quand est-ce qu'on remettait ça. Ils m'ont tellement demand
 é que j'ai fini par cédé"\, plaisante Sandy. Un premier salon de printe
 mps a été organisé en mars. "On a fait petit pour redémarrer. C'était
  vraiment le top\, des gens super\, des exposants géniaux trop contents d
 'être là !"\n\nL'association a donc décidé de créer un marché d'auto
 mne\, "pour se démarquer. Ca n'a rien à voir avec le bien-être cette fo
 is. Ce qui est important\, c'est l'aspect chaleur\, convivialité\, le fai
 t de mettre en avant les producteurs locaux\, les artisans\, les créateur
 s. Ce sont des gens qui ont de l'or dans les mains et qui ne savent pas fo
 rcément communiquer sur leur travail\, alors que c'est super !"\nQue des 
 exposants locaux\nVous l'aurez compris\, Sandy adore les belles rencontres
  et faire découvrir à ses adhérents de nouvelles choses. "Il y aura un 
 exposant par secteur d'activité\, sinon ce n'est bien ni pour les visiteu
 rs\, ni pour les exposants. On est entrain de réorganiser les stands pour
  gagner de la place car on a largement plus de 35 exposants !"\n\nVous ret
 rouverez ainsi du vin\, des choses à grignoter sucrées et salées\, des 
 bijoux\, de la poterie... "Que des gens locaux\, autour d'Amiens\, du sect
 eur. J'étais surprise d'avoir autant de candidatures venant des villages 
 à côté et que je ne connaissais pas. J'ai vraiment envie de créer ce g
 enre d'événements pour que ces talents puissent se faire connaître."\nC
 oncours de déguisements\nDe nombreuses animations sont prévues\, tout au
  long de ce week-end d'Halloween : concours de déguisements\, photographi
 es\, maquillage\, tombola... "On sera aux petits soins de tout le monde. C
 a va pétiller dans les yeux\, pas que dans les coupes de champagne !"\n\n
 Des repas sont prévus chaque jour\, il faut réserver à l'avance (avant 
 le 24 octobre) pour que seules les quantités nécessaires soient prépar
 ées. Au menu : burger maison le vendredi soir\, tartiflette le samedi mid
 i et choucroute le dimanche midi\, tout cela sous forme de menu. Un pass t
 rois jours est proposé au tarif de 40 euros. Des crêpes et gaufres seron
 t en vente également tout au long de l'événement.\n\n"Les bénéfices p
 ermettront à l'association de gagner un peu d'argent pour ne pas augmente
 r le prix des cours\, afin que tout le monde puisse y participer." Vital f
 itness propose gym d'entretien\, pilates\, gym dynamique\, zumba\, cours p
 our seniors\, à Amiens\, Doullens et Molliens-au-Bois. Trois animatrices 
 donnent une douzaine d'heures de cours par semaine. "On va dépasser les 1
 50 adhérents cette année\, on est très content !"\nLéa\n\nMarché d'au
 tomne à Breilly\, du vendredi 31 octobre au dimanche 2 novembre. Plus d'i
 nfos sur la page Facebook de Vital Fitness ou son site internet. Il est en
 core possible de réserver votre repas\, avant le 24 octobre\, en cliquant
  ici.
ATTACH;FMTTYPE=image/jpeg:https://www.ontestepourvousenpicardie.fr/wp-cont
 ent/uploads/2025/09/On-teste-pour-vous-1.jpg
CATEGORIES:Nos idées sortie en Picardie
END:VEVENT
BEGIN:VTIMEZONE
TZID:Europe/Paris
X-LIC-LOCATION:Europe/Paris
BEGIN:STANDARD
DTSTART:20251026T020000
TZOFFSETFROM:+0200
TZOFFSETTO:+0100
TZNAME:CET
END:STANDARD
END:VTIMEZONE
END:VCALENDAR