BEGIN:VCALENDAR
VERSION:2.0
PRODID:-//wp-events-plugin.com//7.2.3.1//EN
TZID:Europe/Paris
X-WR-TIMEZONE:Europe/Paris
BEGIN:VEVENT
UID:139@ontestepourvousenpicardie.fr
DTSTART;TZID=Europe/Paris:20251207T093000
DTEND;TZID=Europe/Paris:20251207T113000
DTSTAMP:20251124T181903Z
URL:https://www.ontestepourvousenpicardie.fr/events/un-brunch-de-noel-vers
 ion-canine-avec-seance-photos-a-blangy-tronville/
SUMMARY:Un brunch de Noël version canine avec séance photos à Blangy-Tro
 nville
DESCRIPTION:Dimanche 7 décembre\, la Casa di Cane\, à Blangy-Tronville\, 
 organise un brunch de Noël ouvert aux amoureux du monde canin. Parmi les 
 temps forts annoncés\, une séance photo festive avec Les Photos de Céci
 le sera proposée tout au long de la matinée. Sans réservation\, chaque 
 toutou pourra passer devant l’objectif pour une photo en décor de saiso
 n \; le fichier numérique sera disponible au tarif de 10 euros.\nL’év
 énement\, accessible pour 15 euros\, comprend l’entrée au parc\, la d
 écouverte de plusieurs stands autour de l’univers canin ainsi que des b
 oissons chaudes et une petite restauration. L’initiative vise à offrir 
 un moment convivial en cette période de fin d’année\, en mêlant renco
 ntres\, animations et ambiance hivernale. Une matinée pensée pour mettre
  en lumière le lien entre les propriétaires et leurs chiens\, et capture
 r ce moment grâce à la séance photo proposée sur place.\n\nLe brunch s
 e déroulera de 9h30 à 11h30 à la Casa di Cane\, route d’Amiens. Les P
 hotos de Cécile. Plus d’infos sur sa page Facebook\, son compte Insta
 gram\, son site internet\, par mail à lesphotosdececile80@gmail.com ou a
 u 07 71 77 38 59.\n\nRetrouvez tous les marchés de Noël de l'année en P
 icardie ici\nVous souhaitez annoncer votre événement sur notre site inte
 rnet ?\nEnvoyez-nous un mail à ontestepourvousenpicardie@gmail.com\n
ATTACH;FMTTYPE=image/jpeg:https://www.ontestepourvousenpicardie.fr/wp-cont
 ent/uploads/2025/11/WhatsApp-Image-2025-11-24-at-19.09.46.jpeg
CATEGORIES:Nos idées sortie en Picardie
END:VEVENT
BEGIN:VTIMEZONE
TZID:Europe/Paris
X-LIC-LOCATION:Europe/Paris
BEGIN:STANDARD
DTSTART:20251026T020000
TZOFFSETFROM:+0200
TZOFFSETTO:+0100
TZNAME:CET
END:STANDARD
END:VTIMEZONE
END:VCALENDAR