BEGIN:VCALENDAR
VERSION:2.0
PRODID:-//wp-events-plugin.com//7.2.3.1//EN
TZID:Europe/Paris
X-WR-TIMEZONE:Europe/Paris
BEGIN:VEVENT
UID:95@ontestepourvousenpicardie.fr
DTSTART;TZID=Europe/Paris:20250928T100000
DTEND;TZID=Europe/Paris:20250928T113000
DTSTAMP:20250906T191350Z
URL:https://www.ontestepourvousenpicardie.fr/events/un-atelier-bien-etre-a
 -saint-quentin/
SUMMARY:Un atelier bien-être à Saint-Quentin
DESCRIPTION:Mélissa Musialowski\, sonothérapeute\, et Emma Janiszewski\, 
 coach et praticienne breathwork\, proposent un atelier bien-être à Saint
 -Quentin\, dimanche 28 septembre.\n\nAu programme\, une expérience immers
 ive de 90 minutes pour libérer le stress\, retrouver le calme intérieur 
 et se reconnecter à soi\, grâce aux vibrations sonores et à la magie du
  souffle.\n\nUn moment qui permettra un apaisement du corps\, du cœur et 
 de l'esprit\, une libération émotionnelle\, détente et relaxation profo
 nde ainsi que lâcher prise. Ce sera aussi l'occasion de découvrir de nom
 breux instruments de musique du monde.\nAtelier bien-être\, dimanche 28 s
 eptembre 2025 de 10 heures à 11h30\, au 75 rue de Guise à Saint-Quentin.
  Infos et réservations auprès d'Emma au 06 70 66 58 97 ou de Mélissa au
  06 47 43 00 18. Attention\, les places sont limitées. Tarif : 35 euros a
 u lieu de 50.\nVous aussi\, annoncez votre événement dans notre agenda e
 n ligne et sur nos réseaux sociaux. Rendez-vous ici.
ATTACH;FMTTYPE=image/jpeg:https://www.ontestepourvousenpicardie.fr/wp-cont
 ent/uploads/2025/07/IMG_7308-scaled.jpg
CATEGORIES:Nos idées sortie en Picardie
END:VEVENT
BEGIN:VTIMEZONE
TZID:Europe/Paris
X-LIC-LOCATION:Europe/Paris
BEGIN:DAYLIGHT
DTSTART:20250330T030000
TZOFFSETFROM:+0100
TZOFFSETTO:+0200
TZNAME:CEST
END:DAYLIGHT
END:VTIMEZONE
END:VCALENDAR