BEGIN:VCALENDAR
VERSION:2.0
PRODID:-//wp-events-plugin.com//7.2.3.1//EN
TZID:Europe/Paris
X-WR-TIMEZONE:Europe/Paris
BEGIN:VEVENT
UID:133@ontestepourvousenpicardie.fr
DTSTART;TZID=Europe/Paris:20251102T080000
DTEND;TZID=Europe/Paris:20251102T170000
DTSTAMP:20251027T181804Z
URL:https://www.ontestepourvousenpicardie.fr/events/quand-la-musique-rime-
 avec-inclusion-conde-folie-se-mobilise-pour-novembre-bleu/
SUMMARY:Quand la musique rime avec inclusion : Condé-Folie se mobilise pou
 r Novembre Bleu
DESCRIPTION:\n\n\n\n\n\n\n\n\n\nCe dimanche 2 novembre\, l’association Ch
 ante avec ton Chœur organise pour la toute première fois sa Foire d’Au
 tomne à Condé-Folie. Une journée placée sous le signe de la conviviali
 té\, du partage et surtout de la solidarité.\nTout au long de la journé
 e\, le village vivra au rythme de la musique et de la bonne humeur. Une gr
 ande réderie permettra à chacun de chiner son bonheur. Commerçants\, ar
 tisans\, producteurs mais aussi particuliers seront au rendez-vous.\nUn me
 nu d’automne — tripes ou jambon frais accompagnés de frites\, salade\
 , fromage et dessert — sera proposé au tarif de 16 euros. Et pour chaqu
 e repas vendu\, un euro sera reversé à l’association dans le cadre de 
 Novembre Bleu.\nL’ambiance promet d’être festive avec un karaoké en 
 plein air\, accessible à tous pour 1 euro la chanson\, ainsi qu’un conc
 ert de présentation des nouveaux membres de l’association. Des animatio
 ns seront également proposées pour les enfants\, notamment des séances 
 de maquillage\, afin que petits et grands profitent pleinement de cette jo
 urnée.\n\nAcheter du matériel musical adapté\nGuillaume\, le président
  de Chante avec ton Chœur\, est particulièrement touché par la question
  du handicap. Sa fille ayant été diagnostiquée autiste\, il souhaite à
  travers cette foire récolter des fonds pour l’achat de matériel music
 al adapté aux personnes en situation de handicap. Son objectif est clair 
 : favoriser l’inclusion sociale grâce à la musique\, un langage univer
 sel qui rapproche et unit.\n\nLa Foire d’automne de Condé-Folie se tien
 dra de 8 à 17 heures\, rue du 11-Novembre\, de la salle des fêtes vers l
 e terrain de football. Restauration et buvette sur place. Les inscriptions
  pour la réderie sont ouvertes : 20 euros les 5 mètres pour les professi
 onnels\, 10 euros pour les particuliers. Pour participer\, il suffit de co
 ntacter l’association par mail à chanteavectonchoeur@gmail.com ou par t
 éléphone au 06 20 19 24 63. Plus d'infos sur leur page Facebook.\n\n\n\n
 \n\n\n\n\n\n
ATTACH;FMTTYPE=image/jpeg:https://www.ontestepourvousenpicardie.fr/wp-cont
 ent/uploads/2025/10/image-27-10-25-10-11-scaled.jpg
CATEGORIES:Nos idées sortie en Picardie
END:VEVENT
BEGIN:VTIMEZONE
TZID:Europe/Paris
X-LIC-LOCATION:Europe/Paris
BEGIN:STANDARD
DTSTART:20251026T020000
TZOFFSETFROM:+0200
TZOFFSETTO:+0100
TZNAME:CET
END:STANDARD
END:VTIMEZONE
END:VCALENDAR