BEGIN:VCALENDAR
VERSION:2.0
PRODID:-//wp-events-plugin.com//7.2.3.1//EN
TZID:Europe/Paris
X-WR-TIMEZONE:Europe/Paris
BEGIN:VEVENT
UID:130@ontestepourvousenpicardie.fr
DTSTART;TZID=Europe/Paris;VALUE=DATE:20251027
DTEND;TZID=Europe/Paris;VALUE=DATE:20251028
DTSTAMP:20251007T170301Z
URL:https://www.ontestepourvousenpicardie.fr/events/octobre-rose-une-seanc
 e-photo-solidaire-a-le-meux/
SUMMARY:Octobre rose : une séance photo solidaire à Le Meux
DESCRIPTION:À l’occasion d’Octobre rose\, mois de la sensibilisation a
 u cancer du sein\, Amandine Ansart Photographie et la maquilleuse Amélie 
 proposent une expérience unique : une séance portrait de femme. Les part
 icipantes profiteront d’une mise en beauté réalisée par Amélie et re
 partiront avec cinq photos sublimées par Amandine.\nPlus qu’un moment p
 our soi\, cette initiative a également une dimension solidaire : 50 euros
  par séance seront reversés à l’association de lutte contre le cancer
  du sein\, pour soutenir la recherche et les femmes touchées par la malad
 ie. Un instant de beauté et de générosité à ne pas manquer.\nLa séan
 ce aura lieu le lundi 27 octobre à Le Meux\, à 10 minutes de Compiègne.
 \n\nCinq photos mise en beauté\, 150 euros\, lundi 27 octobre à Le Meux.
  Les places sont limitées et les réservations se font en ligne ici. Plus
  d'infos sur sa page Facebook\, son compte Instagram ou par mail à aansar
 t.photographie@gmail.com
ATTACH;FMTTYPE=image/jpeg:https://www.ontestepourvousenpicardie.fr/wp-cont
 ent/uploads/2025/10/BO7A1521-copie-scaled.jpg
END:VEVENT
BEGIN:VTIMEZONE
TZID:Europe/Paris
X-LIC-LOCATION:Europe/Paris
BEGIN:STANDARD
DTSTART:20251026T020000
TZOFFSETFROM:+0200
TZOFFSETTO:+0100
TZNAME:CET
END:STANDARD
END:VTIMEZONE
END:VCALENDAR