BEGIN:VCALENDAR
VERSION:2.0
PRODID:-//wp-events-plugin.com//7.2.3.1//EN
TZID:Europe/Paris
X-WR-TIMEZONE:Europe/Paris
BEGIN:VEVENT
UID:125@ontestepourvousenpicardie.fr
DTSTART;TZID=Europe/Paris;VALUE=DATE:20251001
DTEND;TZID=Europe/Paris;VALUE=DATE:20251101
DTSTAMP:20251009T142456Z
URL:https://www.ontestepourvousenpicardie.fr/events/octobre-rose-des-savon
 s-solidaires-crees-par-une-artisane-de-loise/
SUMMARY:Octobre Rose : des savons solidaires créés par une artisane de l
 ’Oise
DESCRIPTION:Artisane en savonnerie à Pont-Sainte-Maxence (Oise)\, Catherin
 e a créé des savons spécialement dédiés à Octobre rose. Ils sont act
 uellement en vente à la boutique d'artisans Kraft pop up store de Chantil
 ly. L'idée lui a été soufflée par la propriétaire des lieux. "Je me s
 uis dit\, pourquoi pas ! Ca me faisait plaisir de faire un produit pour ai
 der les personnes qui ont un cancer."\n\nCatherine a donc revisité son sa
 von Aphrodite\, qu'elle avait créé lors du lancement de sa savonnerie. "
 Il a une touche féminine et désormais une symbolique spéciale. J'ai rep
 ris la recette et l'ai adaptée pour le mois d'octobre. Il est réalisé 
 à base de pigments minéraux." Tous les savons ont été offerts à la bo
 utique par Catherine. Ils y sont désormais en vente\, et les bénéfices 
 permettront de soutenir la lutte contre le cancer.\n\nCatherine fait des s
 avons à froid\, sous le nom de Belle Ö Naturel. Elle utilise des huiles 
 biologiques et crée également certains savons sans parfum pour éviter l
 es risques d'allergies.\nLéa\n\nPlus d'infos sur sa page Facebook\, son c
 ompte Instagram ou son site internet.
ATTACH;FMTTYPE=image/jpeg:https://www.ontestepourvousenpicardie.fr/wp-cont
 ent/uploads/2025/10/541190253_1192070682828003_3793836748885475259_n.jpg
CATEGORIES:Nos bons plans en Picardie
END:VEVENT
BEGIN:VTIMEZONE
TZID:Europe/Paris
X-LIC-LOCATION:Europe/Paris
BEGIN:DAYLIGHT
DTSTART:20250330T030000
TZOFFSETFROM:+0100
TZOFFSETTO:+0200
TZNAME:CEST
END:DAYLIGHT
BEGIN:STANDARD
DTSTART:20251026T020000
TZOFFSETFROM:+0200
TZOFFSETTO:+0100
TZNAME:CET
END:STANDARD
END:VTIMEZONE
END:VCALENDAR