BEGIN:VCALENDAR
VERSION:2.0
PRODID:-//wp-events-plugin.com//7.2.3.1//EN
TZID:Europe/Paris
X-WR-TIMEZONE:Europe/Paris
BEGIN:VEVENT
UID:115@ontestepourvousenpicardie.fr
DTSTART;TZID=Europe/Paris:20251005T083000
DTEND;TZID=Europe/Paris:20251005T103000
DTSTAMP:20250923T165519Z
URL:https://www.ontestepourvousenpicardie.fr/events/octobre-rose-2025-une-
 mobilisation-exceptionnelle-a-vaucelles-et-beffecourt/
SUMMARY:Octobre rose 2025 : une mobilisation exceptionnelle à Vaucelles-et
 -Beffecourt
DESCRIPTION:Cette année\, six villages de l’Aisne s’unissent pour orga
 niser une journée de solidarité et d’espoir en faveur de la lutte cont
 re le cancer du sein. Dimanche 5 octobre 2025\, le rendez-vous est donné 
 dès 8h30 à Vaucelles-et-Beffecourt\, rue de Mons\, pour une édition d
 ’Octobre rose pas comme les autres.\nBourguignon-sous-Montbavin\, Chivy-
 lès-Étouvelles\, Étouvelles\, Molinchart\, Mons-en-Laonnois et Royaucou
 rt-et-Chailvet s’associent en effet à Vaucelles-et-Beffecourt pour prop
 oser plusieurs parcours sportifs adaptés à tous les niveaux : une randon
 née de 5 km pour les promeneurs (sans dénivelés)\, une randonnée de 10
  km pour les marcheurs aguerris (avec dénivelés)\, une marche nordique d
 e 8 km\, avec bâtons (prévoir son équipement) ainsi qu'un trail de 11 k
 m\, chronométré\, avec des dénivelés importants\nTous les parcours son
 t balisés\, ponctués de stands de ravitaillement\, et accessibles sur pr
 é-inscription.\n\nObjectif : le plus grand ruban humain rose !\nLe grand 
 défi de cette année est symbolique : rassembler un maximum de participan
 ts habillés en rose (vêtement\, accessoire\, ou même déguisement) pour
  former le plus grand ruban humain rose possible dans un champ à proximit
 é.\nChaque participant sera positionné dans une zone préalablement trac
 ée\, et le tout sera immortalisé par vue aérienne grâce à un drone. 
 Une inscription préalable est fortement recommandée\, afin de permettre 
 un tracé précis du ruban avant l’arrivée du public.\n\nEn plus des é
 preuves sportives\, une vente de goodies Octobre rose sera proposée sur p
 lace\, avec la possibilité de faire un don libre. L’intégralité des b
 énéfices sera reversée à La Ligue contre le Cancer – Octobre Rose. U
 ne belle manière de mêler engagement\, sport\, et esprit de village.\n\n
 Octobre rose à Vaucelles-et-Beffecourt\, dimanche 5 octobre rue de Mons 
 à partir de 8h30. Inscriptions ici. Plus d'infos sur la page Facebook de 
 la commune.
ATTACH;FMTTYPE=image/jpeg:https://www.ontestepourvousenpicardie.fr/wp-cont
 ent/uploads/2025/09/ruban-humain.jpg
CATEGORIES:Nos idées sortie en Picardie
END:VEVENT
BEGIN:VTIMEZONE
TZID:Europe/Paris
X-LIC-LOCATION:Europe/Paris
BEGIN:DAYLIGHT
DTSTART:20250330T030000
TZOFFSETFROM:+0100
TZOFFSETTO:+0200
TZNAME:CEST
END:DAYLIGHT
END:VTIMEZONE
END:VCALENDAR