BEGIN:VCALENDAR
VERSION:2.0
PRODID:-//wp-events-plugin.com//7.2.3.1//EN
TZID:Europe/Paris
X-WR-TIMEZONE:Europe/Paris
BEGIN:VEVENT
UID:135@ontestepourvousenpicardie.fr
DTSTART;TZID=Europe/Paris:20251213T000000
DTEND;TZID=Europe/Paris:20251224T000000
DTSTAMP:20251107T102606Z
URL:https://www.ontestepourvousenpicardie.fr/events/noyon-en-fete-un-mois-
 de-decembre-magique-entre-illuminations-marche-de-noel-et-patinoire/
SUMMARY:Noyon en fête : un mois de décembre magique entre illuminations\,
  marché de Noël et patinoire
DESCRIPTION:La magie de Noël s’installe à Noyon dès le 5 décembre\, a
 vec le lancement des illuminations place Aristide-Briand. Le rendez-vous s
 e poursuivra du 13 au 24 décembre avec le retour tant attendu du marché 
 de Noël\, ses nombreux exposants\, sa patinoire\, sa maison du Père Noë
 l et une foule d’animations féeriques pour petits et grands.\n\nLanceme
 nt des illuminations\nLe top départ des festivités de Noël à Noyon ser
 a donné le vendredi 5 décembre à 18h30\, place Aristide-Briand\, lors d
 u lancement des illuminations. L’événement se déroulera en musique\, 
 avec Jérémy Fernandez et la chorale du collège Notre-Dame\, pour un mom
 ent convivial et féerique.\n\n\nMarché de Noël\nLa magie de Noël s’i
 nstalle du samedi 13 au lundi 24 décembre\, avec le retour tant attendu d
 e Noyon en fête avec de nombreuses animations\, spectacles et concerts po
 ur toute la famille. L'inauguration officielle est prévue le samedi 13 d
 écembre à 10 heures\, place Bertrand-Labarre\, en présence de Minnie et
  du Père Noël.\n\nDécouvrez une ambiance chaleureuse et gourmande sur l
 e marché de Noël de Noyon. De nombreux exposants vous proposeront leurs 
 produits : bières artisanales\, chocolats\, fromages\, bijoux\, savons\, 
 miel\, épices\, confitures\, produits malgaches\, champagnes\, escargots\
 , vins chauds et autres douceurs. C’est le lieu idéal pour trouver vos 
 cadeaux et profiter d’un moment de partage.\nHoraires d’ouverture : sa
 medis 13 et 20 décembre : 9h à 20h\, dimanches 14 et 21 décembre : 10h 
 à 20h\, lundi 15 au jeudi 18 décembre : 10h à 19h\, vendredi 19 décemb
 re : 10h à 20h\, lundi 22 et mardi 23 décembre : 10h à 19h\, mercredi 2
 4 décembre : 9h à 12h.\n\n\nTout au long du marché de Noël\, laissez-v
 ous emporter par la magie avec un manège\, une patinoire\, la maison du P
 ère Noël\, des spectacles\, des concerts et de nombreuses animations (at
 eliers créatifs\, parade lumineuse\, course et bien d’autres…)\, prop
 osées pour toute la famille.\n\nNe manquez pas cette édition de Noyon en
  fête\, où se mêlent traditions\, gourmandises\, animations et féerie 
 pour petits et grands.\nToutes les informations sur : www.ville-noyon.fr e
 t la page Facebook de la Ville de Noyon.\nInformations complémentaires :
  \n&gt\; Patinoire \nDu 13 au 24 décembre\, venez glisser sur 150 m² d
 e glace en plein cœur de la ville ! L’accès est gratuit\, et la locati
 on des patins (2 € les 30 minutes) est reversée à l’association Inte
 rAct.\nHoraires : samedis 13 et 20 décembre : 14h à 20h\, dimanches 14 e
 t 21 décembre : 14h à 20h\, lundi 15 et mardi 16 décembre : 17h à 19h\
 , mercredi 17 décembre : 14h à 19h\, jeudi 18 décembre : 17h à 19h\, v
 endredi 19 décembre : 17h à 20h\, lundi 22 et mardi 23 décembre : 14h 
 à 19h\, mercredi 24 décembre : 9h à 12h\n&gt\; La maison du Père Noël
 \nLe Père Noël vous attend du 13 au 24 décembre\, au sein du marché de
  Noël\, pour écouter les souhaits des enfants\, faire des photos et dist
 ribuer quelques friandises.\nHoraires : samedi 13 décembre : 10h à 14h\,
  dimanche 14 décembre : 18h15 à 20h\, lundi 15 au jeudi 18 décembre : 1
 6h à 19h\, vendredi 19 au dimanche 21 décembre : 16h à 20h\, lundi 22 e
 t mardi 23 décembre : 15h à 19h\, mercredi 24 décembre : 10h à 12h.\n&
 gt\; Photomaton de Noël\nDu 1er au 31 décembre\, une borne à selfie ins
 tallée dans le hall d’accueil de l’hôtel de ville vous permettra de 
 capturer la magie des fêtes dans un décor féérique. L’accès est lib
 re et gratuit\, aux horaires d’ouverture de la mairie.\n&gt\; Animations
  et concerts\nLa musique et les arts vivants rythmeront tout le mois de d
 écembre :\n\n 	Concert : Chorale Chorus \; samedi 13 à 15h et 15h45 (pla
 ce Aristide-Briand)\n 	Concert : Noël à la bougie avec Le Virelai : dim
 anche 14 à 16h à la cathédrale – entrée libre (infos sur noyonarts.c
 om)\n 	Concert de l’Harmonie de Noyon : dimanche 14 à 18h30 (sur le mar
 ché de Noël)\n 	Compagnie Imperial Dream : lundi 15 à 18h – échassi
 ères et artistes lumineuses en déambulation\n 	Maréva Debloos\, accord
 éoniste : vendredi 19 à 18h et mercredi 24 à 11h (sur le marché de No
 ël)\n 	Concert : Les Hauts de Gammes de Varesnes \; samedi 20 à 17h30 
 (sur le marché de Noël)\n 	La Galère s’amuse – La Carett’ à musi
 que : lundi 22 à 15h30\, 16h30 et 18h (sur le marché de Noël)\n 	Orgue 
 de Barbarie : mardi 23 à 15h30\, 16h30 et 18h (sur le marché de Noël)\n
ATTACH;FMTTYPE=image/jpeg:https://www.ontestepourvousenpicardie.fr/wp-cont
 ent/uploads/2025/11/noyon-en-fete-2.jpg
CATEGORIES:Nos idées sortie en Picardie
END:VEVENT
BEGIN:VTIMEZONE
TZID:Europe/Paris
X-LIC-LOCATION:Europe/Paris
BEGIN:STANDARD
DTSTART:20251026T020000
TZOFFSETFROM:+0200
TZOFFSETTO:+0100
TZNAME:CET
END:STANDARD
END:VTIMEZONE
END:VCALENDAR