BEGIN:VCALENDAR
VERSION:2.0
PRODID:-//wp-events-plugin.com//7.2.3.1//EN
TZID:Europe/Paris
X-WR-TIMEZONE:Europe/Paris
BEGIN:VEVENT
UID:105@ontestepourvousenpicardie.fr
DTSTART;TZID=Europe/Paris:20251011T100000
DTEND;TZID=Europe/Paris:20251011T120000
DTSTAMP:20250918T134747Z
URL:https://www.ontestepourvousenpicardie.fr/events/monchy-lagache-se-mobi
 lise-pour-octobre-rose-avec-une-balade-et-des-creations-solidaires/
SUMMARY:Monchy-Lagache se mobilise pour Octobre rose avec une balade et des
  créations solidaires
DESCRIPTION:Tout au long du mois d’octobre\, la bibliothèque de Monchy-L
 agache tient un stand d’information sur le cancer du sein\, avec la diff
 usion de flyers. Le samedi 11 octobre à 10 heures\, une balade « Sensibi
 lisation au dépistage » sera organisé. Par ailleurs\, l’Atelier Trico
 t / Crochet a confectionné de petits rubans et porte-clés… afin d’ag
 rémenter ce mois de solidarité et de prévention.\nLe Mille et une feuil
 les\, 21\, Grande rue\, à Monchy-Lagache. Plus d'infos au 03 3 22 85 29 6
 6 ou sur leur page Facebook.\n\nVous organisez un événement dans le cadr
 e d’Octobre Rose en Picardie ? Nous l’ajoutons gratuitement à cet age
 nda pour soutenir la cause.\n\n\n\n👉 Il suffit de nous envoyer les info
 rmations par mail à : ontestepourvousenpicardie@gmail.com\n
ATTACH;FMTTYPE=image/jpeg:https://www.ontestepourvousenpicardie.fr/wp-cont
 ent/uploads/2025/09/octobre-rose-2024.jpg
CATEGORIES:Nos idées sortie en Picardie
END:VEVENT
BEGIN:VTIMEZONE
TZID:Europe/Paris
X-LIC-LOCATION:Europe/Paris
BEGIN:DAYLIGHT
DTSTART:20250330T030000
TZOFFSETFROM:+0100
TZOFFSETTO:+0200
TZNAME:CEST
END:DAYLIGHT
END:VTIMEZONE
END:VCALENDAR