BEGIN:VCALENDAR
VERSION:2.0
PRODID:-//wp-events-plugin.com//7.2.3.1//EN
TZID:Europe/Paris
X-WR-TIMEZONE:Europe/Paris
BEGIN:VEVENT
UID:104@ontestepourvousenpicardie.fr
DTSTART;TZID=Europe/Paris:20251004T143000
DTEND;TZID=Europe/Paris:20251004T160000
DTSTAMP:20250918T130219Z
URL:https://www.ontestepourvousenpicardie.fr/events/marche-et-parcours-vtt
 -pour-octobre-rose-a-flavy-le-martel/
SUMMARY:Marche et parcours VTT pour Octobre rose à Flavy-le-Martel
DESCRIPTION:L'association Familles rurales de Flavy-le-Martel organise une 
 marche (5 km et 10 km) et un parcours VTT (25 km) pour Octobre rose\, same
 di 4 octobre 2025. Le départ est prévu à 14h30\, à côté de l'églis
 e.\n \nLe rassemblement est très convivial et attire de plus en plus de 
 personnes chaque année. Les fonds perçus seront directement reversés 
 à La ligue contre le cancer du Comité départemental de l'Aisne. Soupe 
 et compote de saison seront offertes à la fin du parcours.\n \nRandonné
 e pédestre et cycliste pour Octobre rose\, samedi 4 octobre 2025 à Flavy
 -le-Martel à 14h30. Tarif : 5 euros par personne\, gratuit pour les enfan
 ts. Inscriptions et renseignements : 03 23 52 17 83.\n\nVous organisez un 
 événement dans le cadre d’Octobre Rose en Picardie ? Nous l’ajoutons
  gratuitement à cet agenda pour soutenir la cause.\n\n\n\n👉 Il suffit 
 de nous envoyer les informations par mail à : ontestepourvousenpicardie@g
 mail.com\n
ATTACH;FMTTYPE=image/jpeg:https://www.ontestepourvousenpicardie.fr/wp-cont
 ent/uploads/2025/09/4C9912B0C2CB4135B1BD7C17CE136D23.jpg
CATEGORIES:Nos idées sortie en Picardie
END:VEVENT
BEGIN:VTIMEZONE
TZID:Europe/Paris
X-LIC-LOCATION:Europe/Paris
BEGIN:DAYLIGHT
DTSTART:20250330T030000
TZOFFSETFROM:+0100
TZOFFSETTO:+0200
TZNAME:CEST
END:DAYLIGHT
END:VTIMEZONE
END:VCALENDAR