BEGIN:VCALENDAR
VERSION:2.0
PRODID:-//wp-events-plugin.com//7.2.3.1//EN
TZID:Europe/Paris
X-WR-TIMEZONE:Europe/Paris
BEGIN:VEVENT
UID:142@ontestepourvousenpicardie.fr
DTSTART;TZID=Europe/Paris:20251207T090000
DTEND;TZID=Europe/Paris:20251207T180000
DTSTAMP:20251205T102152Z
URL:https://www.ontestepourvousenpicardie.fr/events/marche-de-noel-et-du-t
 erroir-dimanche-7-decembre-a-remigny/
SUMMARY:Marché de Noël et du terroir dimanche 7 décembre à Remigny
DESCRIPTION:Le dimanche 7 décembre\, la salle des fêtes de Remigny (Aisne
 ) accueillera la dixième édition de son marché de Noël\, également as
 socié à un marché du terroir. L’événement se déroulera de 9 heures
  à 18 heures et réunira plus de 40 exposants.\nLes visiteurs pourront y 
 découvrir une large variété d’articles artisanaux\, de décorations f
 estives et d’idées cadeaux pour préparer les fêtes. Le marché propos
 era également des produits du terroir\, permettant de mettre en valeur le
 s saveurs locales.\nL’ambiance se veut chaleureuse et conviviale afin d
 ’offrir un moment agréable à toute la famille. Ce rendez-vous est l’
 occasion parfaite pour profiter de la magie de Noël tout en soutenant les
  artisans et producteurs de la région.\n\nMarché de Noël de Remigny\, 
 à la salle des fêtes\, dimanche 7 décembre de 9 à 18 heures.\nRetrouve
 z tous les marchés de Noël de l’année en Picardie ici\nVous souhaitez
  annoncer votre événement sur notre site internet ?\nEnvoyez-nous un mai
 l à ontestepourvousenpicardie@gmail.com
ATTACH;FMTTYPE=image/jpeg:https://www.ontestepourvousenpicardie.fr/wp-cont
 ent/uploads/2025/12/PHOTOS-ILLUSTRATIONS-2.png
CATEGORIES:Nos idées sortie en Picardie
END:VEVENT
BEGIN:VTIMEZONE
TZID:Europe/Paris
X-LIC-LOCATION:Europe/Paris
BEGIN:STANDARD
DTSTART:20251026T020000
TZOFFSETFROM:+0200
TZOFFSETTO:+0100
TZNAME:CET
END:STANDARD
END:VTIMEZONE
END:VCALENDAR