BEGIN:VCALENDAR
VERSION:2.0
PRODID:-//wp-events-plugin.com//7.2.3.1//EN
TZID:Europe/Paris
X-WR-TIMEZONE:Europe/Paris
BEGIN:VEVENT
UID:123@ontestepourvousenpicardie.fr
DTSTART;TZID=Europe/Paris:20251019T090000
DTEND;TZID=Europe/Paris:20251019T220000
DTSTAMP:20250929T144648Z
URL:https://www.ontestepourvousenpicardie.fr/events/marche-aquatique-conco
 urs-equestre-et-moules-frites-pour-octobre-rose-a-fort-mahon/
SUMMARY:Marche aquatique\, concours équestre et moules frites pour Octobre
  rose à Fort-Mahon
DESCRIPTION:Dimanche 19 octobre\, la mobilisation continue à Fort-Mahon-Pl
 age. La journée s’ouvre dès 9 heures avec une marche aquatique rose\, 
 organisée par le club de longe côte (10 euros\, inscription en ligne). L
 e centre équestre proposera un concours de 9 à 12 heures et de 14h30 à 
 15h30\, suivi d’un repas moules-frites solidaire à midi (8 euros\, rés
 ervation obligatoire).\n\nEn soirée\, le cinéma Le Vox projettera De plu
 s belle\, avec Florence Foresti\, à 20 heures.\n\nTout au long du week-en
 d\, une tombola et une collecte de soutiens-gorge sont organisées à l’
 Office de Tourisme\, au profit de la Ligue contre le cancer.\nTarif solida
 ire : 20 euros. Plus d’infos auprès de l’office de tourisme de Fort-M
 ahon sur le site internet ou au 03 22 23 36 00. Une buvette et une petit
 e restauration seront disponibles sur place.\nVous organisez un événemen
 t dans le cadre d’Octobre Rose en Picardie ? Nous l’ajoutons gratuitem
 ent à cet agenda pour soutenir la cause.\n\n👉 Il suffit de nous envoye
 r les informations par mail à : ontestepourvousenpicardie@gmail.com
ATTACH;FMTTYPE=image/jpeg:https://www.ontestepourvousenpicardie.fr/wp-cont
 ent/uploads/2025/09/longe-cote-rose-e1759157200625.jpg
CATEGORIES:Nos idées sortie en Picardie
END:VEVENT
BEGIN:VTIMEZONE
TZID:Europe/Paris
X-LIC-LOCATION:Europe/Paris
BEGIN:DAYLIGHT
DTSTART:20250330T030000
TZOFFSETFROM:+0100
TZOFFSETTO:+0200
TZNAME:CEST
END:DAYLIGHT
END:VTIMEZONE
END:VCALENDAR