BEGIN:VCALENDAR
VERSION:2.0
PRODID:-//wp-events-plugin.com//7.2.3.1//EN
TZID:Europe/Paris
X-WR-TIMEZONE:Europe/Paris
BEGIN:VEVENT
UID:122@ontestepourvousenpicardie.fr
DTSTART;TZID=Europe/Paris:20251018T203000
DTEND;TZID=Europe/Paris:20251018T233000
DTSTAMP:20250929T144853Z
URL:https://www.ontestepourvousenpicardie.fr/events/lola-rose-et-theatre-b
 oobs-a-fort-mahon-plage-pour-octobre-rose/
SUMMARY:Lola-Rose et théâtre Boobs à Fort-Mahon-Plage pour Octobre rose
DESCRIPTION:A Fort-Mahon-Plage\, samedi 18 octobre en soirée\, place à l
 ’émotion et au spectacle après une journée sportive. À 20h30\, la sa
 lle polyvalente accueille d’abord Lola-Rose\, révélée dans The Voice 
 Kids 8.\n\nLa pièce de théâtre BOOBS\, jouée par La Lovely Compagnie\,
  prendra ensuite le relais. Six comédiennes y incarnent Alexandra\, jeune
  femme en rémission d’un cancer du sein\, dans un récit à la fois dr
 ôle\, émouvant et percutant sur la reconstruction de soi.\nTarif solidai
 re : 20 euros. Plus d’infos auprès de l’office de tourisme de Fort-Ma
 hon sur le site internet ou au 03 22 23 36 00. Une buvette et une petite
  restauration seront disponibles sur place.
ATTACH;FMTTYPE=image/jpeg:https://www.ontestepourvousenpicardie.fr/wp-cont
 ent/uploads/2025/09/octobre-rose.png
CATEGORIES:Nos idées sortie en Picardie
END:VEVENT
BEGIN:VTIMEZONE
TZID:Europe/Paris
X-LIC-LOCATION:Europe/Paris
BEGIN:DAYLIGHT
DTSTART:20250330T030000
TZOFFSETFROM:+0100
TZOFFSETTO:+0200
TZNAME:CEST
END:DAYLIGHT
END:VTIMEZONE
END:VCALENDAR