BEGIN:VCALENDAR
VERSION:2.0
PRODID:-//wp-events-plugin.com//7.2.3.1//EN
TZID:Europe/Paris
X-WR-TIMEZONE:Europe/Paris
BEGIN:VEVENT
UID:141@ontestepourvousenpicardie.fr
DTSTART;TZID=Europe/Paris:20251206T140000
DTEND;TZID=Europe/Paris:20251206T190000
DTSTAMP:20251202T130542Z
URL:https://www.ontestepourvousenpicardie.fr/events/les-rives-accueillent-
 un-evenement-artisanal-au-coeur-damiens/
SUMMARY:Les Rives accueillent un événement artisanal au cœur d’Amiens
DESCRIPTION:Samedi 6 décembre\, de 14 à 19 heures\, le lieu Les Rives\, s
 itué au 59 quai Charles-Tellier à Amiens\, accueille un marché de Noël
  entièrement dédié aux créateurs locaux. Un après-midi placé sous le
  signe de l’artisanat\, de la découverte et de la convivialité.\nLe Ma
 rché de Noël des créateurs s’installe pour la première fois aux Rive
 s\, un espace récemment ouvert en bord de la Somme. Pour cette édition\,
  les organisateurs ont réuni une sélection de créateurs locaux qui pré
 senteront leurs réalisations dans des univers variés. Les visiteurs pour
 ront découvrir de la cosmétique naturelle\, des bijoux en porcelaine\, d
 e la céramique artisanale\, des accessoires de mode\, des illustrations p
 oétiques\, de la carterie ainsi que différentes œuvres uniques ou produ
 its à base de plantes et de bourgeons. Parmi les exposants annoncés figu
 rent notamment Dans tes rêves\, Céradiane\, Macérâts et tralala\, Hild
 egarde von von\, Les Plantes des croyables\, Cda Petites choses et Audrey 
 Marque.\nL’événement proposera également une offre gourmande. La biè
 re locale sera mise à l’honneur grâce à la présence de Bear’s Tave
 rn\, tandis que Natur’Potes assurera une petite restauration à base de 
 produits locaux. L’objectif est d’offrir au public un moment agréable
 \, propice aux échanges et à la découverte des savoir-faire régionaux.
 \nAu-delà du marché\, cette journée constituera aussi une occasion de d
 écouvrir Les Rives\, un lieu de vie et de création ouvert récemment. L
 ’espace\, disponible à la location\, accueille déjà ateliers\, sémin
 aires et événements créatifs. Les organisateurs promettent une ambiance
  chaleureuse et un rendez-vous résolument tourné vers la créativité.\n
 \nMarché de Noël des créateurs des Rives\, samedi 6 décembre\, de 14 
 à 19 heures\, 59 quai Charles-Tellier à Amiens. Plus d'infos au 06 83 47
  92 79 ou par mail à contact@macerats-tralala.fr 
ATTACH;FMTTYPE=image/jpeg:https://www.ontestepourvousenpicardie.fr/wp-cont
 ent/uploads/2025/12/marche-aux-rives.png
CATEGORIES:Nos idées sortie en Picardie
END:VEVENT
BEGIN:VTIMEZONE
TZID:Europe/Paris
X-LIC-LOCATION:Europe/Paris
BEGIN:STANDARD
DTSTART:20251026T020000
TZOFFSETFROM:+0200
TZOFFSETTO:+0100
TZNAME:CET
END:STANDARD
END:VTIMEZONE
END:VCALENDAR