BEGIN:VCALENDAR
VERSION:2.0
PRODID:-//wp-events-plugin.com//7.2.3.1//EN
TZID:Europe/Paris
X-WR-TIMEZONE:Europe/Paris
BEGIN:VEVENT
UID:112@ontestepourvousenpicardie.fr
DTSTART;TZID=Europe/Paris:20251017T090000
DTEND;TZID=Europe/Paris:20251019T180000
DTSTAMP:20250923T152519Z
URL:https://www.ontestepourvousenpicardie.fr/events/les-jardins-de-bethanc
 ourt-en-valois-ouvrent-leurs-portes/
SUMMARY:Les Jardins de Béthancourt-en-Valois ouvrent leurs portes
DESCRIPTION:Comme chaque année à l’automne\, les Jardins de Béthencour
 t-en-Valois (Oise) ouvrent leurs portes pour un long week-end sous le sign
 e de la nature et de la convivialité. Les serres vont se transformer en u
 n véritable havre de couleurs\, de parfums et de saveurs.\nC’est le mom
 ent idéal pour venir découvrir un large choix de chrysanthèmes\, de com
 positions florales\, de pensées et de vivaces\, soigneusement cultivés s
 ur place. Mais aussi d'acheter de nombreux légumes produits sur place.\nE
 t pour rendre ce moment encore plus chaleureux\, un généreux buffet camp
 agnard sera offert à tous les visiteurs. De quoi prolonger la promenade a
 vec une pause gourmande bien méritée\, dans une ambiance détendue et fa
 miliale.\n\nPortes ouvertes aux Jardins de Béthencourt-en-Valois du vendr
 edi 17 au dimanche 19 octobre\, de 9 à 18 heures\, impasse du Waru à Bé
 thancourt-en-Valois. Plus d'infos sur leur page Facebook ou leur compte In
 stagram.
ATTACH;FMTTYPE=image/jpeg:https://www.ontestepourvousenpicardie.fr/wp-cont
 ent/uploads/2025/09/552239864_791564143826641_8783169662233388319_n.jpg
CATEGORIES:Nos idées sortie en Picardie
END:VEVENT
BEGIN:VTIMEZONE
TZID:Europe/Paris
X-LIC-LOCATION:Europe/Paris
BEGIN:DAYLIGHT
DTSTART:20250330T030000
TZOFFSETFROM:+0100
TZOFFSETTO:+0200
TZNAME:CEST
END:DAYLIGHT
END:VTIMEZONE
END:VCALENDAR