BEGIN:VCALENDAR
VERSION:2.0
PRODID:-//wp-events-plugin.com//7.2.3.1//EN
TZID:Europe/Paris
X-WR-TIMEZONE:Europe/Paris
BEGIN:VEVENT
UID:127@ontestepourvousenpicardie.fr
DTSTART;TZID=Europe/Paris;VALUE=DATE:20251001
DTEND;TZID=Europe/Paris;VALUE=DATE:20251101
DTSTAMP:20251006T140652Z
URL:https://www.ontestepourvousenpicardie.fr/events/le-kraft-a-chantilly-s
 e-mobilise-pour-octobre-rose-avec-une-collection-artisanale-unique/
SUMMARY:Le Kraft à Chantilly se mobilise pour Octobre Rose avec une collec
 tion artisanale unique
DESCRIPTION:Le Kraft\, à Chantilly (Oise)\, réunit une vingtaine de créa
 teurs\, dont une dizaine présents en permanence à la boutique. "Nous pr
 ésentons uniquement de l’artisanat\, parfois des œuvres d'artistes\, e
 t nous accueillons de nouveaux locataires pour une journée\, ou pour plus
  longtemps"\, explique Pia\, qui gère l'espace à l'aide des artisans.\n
 À l’occasion d’Octobre rose\, la boutique met à l’honneur une coll
 ection spéciale dédiée à la lutte contre le cancer du sein. "Comme be
 aucoup\, j'ai des amies qui ont été touchées par le cancer du sein\, et
  je voulais avoir une pensée pour elles"\, explique Pia\, qui gère la bo
 utique avec l'aide des artisans. "J’ai donc proposé au collectif de cr
 éer une collection spéciale pour Octobre rose." Pour chaque vente\, un p
 ourcentage est reversé à une association engagée dans la lutte contre l
 e cancer.\nLa collection est disponible tout le mois d’octobre. "Toutes 
 les productions sont artisanales et uniques\, vous trouverez des bijoux\, 
 des meubles\, des savons\, des marque-pages\, des globes en fleurs séché
 es\, des bougies\, des vases\, des sacs et pochettes\, le tout en rose."\n
 Kraft Pop up store\, 18 avenue du Marechal Joffre\, Chantilly. Plus d'info
 s sur leur leur compte Instagram\nVous organisez un événement dans le ca
 dre d’Octobre Rose en Picardie ? Nous l’ajoutons gratuitement à cet a
 genda pour soutenir la cause.\n\n\n\n👉 Il suffit de nous envoyer les in
 formations par mail à : ontestepourvousenpicardie@gmail.com
ATTACH;FMTTYPE=image/jpeg:https://www.ontestepourvousenpicardie.fr/wp-cont
 ent/uploads/2025/10/WhatsApp-Image-2025-10-06-at-16.04.16.jpeg
CATEGORIES:Nos bons plans en Picardie
END:VEVENT
BEGIN:VTIMEZONE
TZID:Europe/Paris
X-LIC-LOCATION:Europe/Paris
BEGIN:DAYLIGHT
DTSTART:20250330T030000
TZOFFSETFROM:+0100
TZOFFSETTO:+0200
TZNAME:CEST
END:DAYLIGHT
BEGIN:STANDARD
DTSTART:20251026T020000
TZOFFSETFROM:+0200
TZOFFSETTO:+0100
TZNAME:CET
END:STANDARD
END:VTIMEZONE
END:VCALENDAR