BEGIN:VCALENDAR
VERSION:2.0
PRODID:-//wp-events-plugin.com//7.2.3.1//EN
TZID:Europe/Paris
X-WR-TIMEZONE:Europe/Paris
BEGIN:VEVENT
UID:134@ontestepourvousenpicardie.fr
DTSTART;TZID=Europe/Paris:20251130T100000
DTEND;TZID=Europe/Paris:20251130T180000
DTSTAMP:20251115T162312Z
URL:https://www.ontestepourvousenpicardie.fr/events/la-feerie-de-noel-revi
 ent-a-la-cotonnerie-a-saint-quentin/
SUMMARY:La féérie de Noël revient à La Cotonnerie\, à Saint-Quentin
DESCRIPTION:Treize exposants prendront place à La Cotonnerie\, à Saint-Qu
 entin\, dimanche 30 novembre 2025\, à l'occasion de la seconde édition d
 e son marché de Noël.\n\nVous pourrez (re)découvrir ainsi de nombreux c
 réateurs et artisans locaux : La Cabane des imaginaires\, Fanny Colibri\,
  Mel Patisse\, La Boutique d'Albane\, Les Fragrances d'Aphrodites\, Audrey
  marque graphiste\, CDAV\, Les Savons de Seelie\, 1d6e création\, Agathe 
 de chez Mdb Event et ses couronnes de Noël\, l'Atelier qui pépille ainsi
  que Crochet et falbalas d'Elisa.\nUn salon de thé éphémère\nNouveaut
 é cette année : un salon de thé éphémère s'installera au coeur du ma
 rché\, tenu par Cheyenne\, du Moment Thé. "Les clients pourront déguste
 r une part de gâteau et boire une boisson chaude"\, précise Emeline\, de
  La Cotonnerie.\n\nElle se réjouit de ce retour : "Il y a eu un réel eng
 ouement l'an dernier\, avec des artisans heureux de la journée. Ils ont p
 our la plupart étaient contents de leurs ventes. On nous a demandé de re
 nouveler et nous avons dit oui. J'ai fait le choix de sélectionner un max
 imum de nouveaux créateurs afin de faire découvrir leur travail\, notamm
 ent pour les certains qui viennent d'Amiens. En espérant que cette éditi
 on ait le même succès que l'an dernier\, que les créateurs vendent bien
 \, et que les Saint-Quentinois achètent leurs cadeaux de Noël en direct.
 "\nUn lieu magique\nUn événement local et convivial dans un lieu magique
 \, qui met une nouvelle fois à l'honneur la création artisanale et le sa
 voir-faire régional. La Cotonnerie\, maison de maître\, offre en effet u
 n cadre unique\, tout près des Champs-Elysées.\n\nMarché de Noël de La
  Cotonnerie\, dimanche 30 novembre de 10 à 18 heures. 30\, rue Jeanne-d'A
 rc à Saint-Quentin. Plus d'infos sur leur page Facebook\, leur compte Ins
 tagram\, au 07 79 51 75 15 ou par mail à lacotonnerie.saintquentin@gmail.
 com\nRetrouvez tous les marchés de Noël de l'année en Picardie ici\nVou
 s souhaitez annoncer votre événement sur notre site internet ?\nEnvoyez-
 nous un mail à ontestepourvousenpicardie@gmail.com
ATTACH;FMTTYPE=image/jpeg:https://www.ontestepourvousenpicardie.fr/wp-cont
 ent/uploads/2025/11/WhatsApp-Image-2025-11-07-at-10.40.05-e1762508461399.j
 peg
CATEGORIES:Nos idées sortie en Picardie
END:VEVENT
BEGIN:VTIMEZONE
TZID:Europe/Paris
X-LIC-LOCATION:Europe/Paris
BEGIN:STANDARD
DTSTART:20251026T020000
TZOFFSETFROM:+0200
TZOFFSETTO:+0100
TZNAME:CET
END:STANDARD
END:VTIMEZONE
END:VCALENDAR