BEGIN:VCALENDAR
VERSION:2.0
PRODID:-//wp-events-plugin.com//7.2.3.1//EN
TZID:Europe/Paris
X-WR-TIMEZONE:Europe/Paris
BEGIN:VEVENT
UID:138@ontestepourvousenpicardie.fr
DTSTART;TZID=Europe/Paris:20251216T163000
DTEND;TZID=Europe/Paris:20251216T200000
DTSTAMP:20251115T143509Z
URL:https://www.ontestepourvousenpicardie.fr/events/hamelet-un-marche-de-n
 oel-chaleureux-ce-mardi-16-decembre/
SUMMARY:Hamelet : un marché de Noël chaleureux ce mardi 16 décembre
DESCRIPTION:Rendez-vous plein de magie au cœur mardi 16 décembre\, de 16h
 30 à 20 heures. Le marché de Noël du RPI Vaux-sur-Somme\, Vaire-sous-Co
 rbie\, Le Hamel et Hamelet prendra place au 41 rue François-Deroussen\, 
 à Hamelet.\nPorté par l’association Cahiers et Marelles\, l’événem
 ent promet un joli moment de convivialité pour petits et grands. Les visi
 teurs pourront profiter des chants de Noël interprétés par les enfants\
 , découvrir une vente de décorations et de créations artisanales\, ains
 i qu’un espace dédié aux produits locaux.\nCôté gourmandises\, l’a
 mbiance sera tout aussi généreuse : crêpes\, gaufres\, chocolat chaud\,
  vin chaud… sans oublier la tartiflette\, disponible sur place ou sur co
 mmande pour les plus gourmands.\nUne belle occasion de soutenir les école
 s du RPI tout en s’imprégnant de la douceur des fêtes de fin d’anné
 e. Un marché familial\, simple et chaleureux\, comme on les aime en Picar
 die.\n\nMarché de Noël de Cahiers et Marelles\, 41 rue François-Derouss
 en à Hamelet\, mardi 16 décembre de 16h30 à 20 heures. Plus d'infos à 
 cahiersetmarelles@gmail.com\nRetrouvez tous les marchés de Noël de 2025 
 en Picardie ici !\nVous aussi vous souhaitez annoncer votre marché de No
 ël ? Envoyez-nous toutes les infos par mail à ontestepourvousenpicardie@
 gmail.com (5 euros)
ATTACH;FMTTYPE=image/jpeg:https://www.ontestepourvousenpicardie.fr/wp-cont
 ent/uploads/2025/11/FB_IMG_1763214657857-e1763215820963.jpg
CATEGORIES:Nos idées sortie en Picardie
END:VEVENT
BEGIN:VTIMEZONE
TZID:Europe/Paris
X-LIC-LOCATION:Europe/Paris
BEGIN:STANDARD
DTSTART:20251026T020000
TZOFFSETFROM:+0200
TZOFFSETTO:+0100
TZNAME:CET
END:STANDARD
END:VTIMEZONE
END:VCALENDAR