BEGIN:VCALENDAR
VERSION:2.0
PRODID:-//wp-events-plugin.com//7.2.3.1//EN
TZID:Europe/Paris
X-WR-TIMEZONE:Europe/Paris
BEGIN:VEVENT
UID:101@ontestepourvousenpicardie.fr
DTSTART;TZID=Europe/Paris:20251025T100000
DTEND;TZID=Europe/Paris:20251025T180000
DTSTAMP:20250923T095842Z
URL:https://www.ontestepourvousenpicardie.fr/events/et-si-vous-preniez-soi
 n-de-vous-rendez-vous-au-forum-du-bien-etre-deppeville/
SUMMARY:Et si vous preniez soin de vous ? Rendez-vous au forum du bien-êtr
 e d'Eppeville
DESCRIPTION:Le centre communal d'action sociale (CCAS) de la Ville de Ham o
 rganise son forum du bien-être samedi 25 octobre 2025 de 10 à 18 heures.
  Exceptionnellement\, des travaux ayant lieu à la salle des fêtes de Ham
 \, l'événement se tiendra à la salle polyvalente d'Eppeville cette ann
 ée.\n\nDe nombreux professionnels\, associations et producteurs locaux se
 ront présents\, dans les domaines de la santé\, du bien-être et de l'al
 imentation équilibrée. Sur place\, les visiteurs pourront découvrir de 
 nombreuses pratiques qui favorisent une meilleure qualité de vie.\n\nAu p
 rogramme\, côté bien-être : des massages\, de la relaxation\, de la sop
 hrologie\, mais aussi la présence de magnétiseurs et autres praticiens d
 édiés à l'équilibre du corps et de l'esprit. Des informations et des 
 échanges seront organisés tout au long du forum\, autour de la nutrition
 \, de l’activité physique\, de la gestion du stress et de l’importanc
 e de prendre soin de sa santé au quotidien. Des rencontres\, démonstrati
 ons\, conseils et partages d'expériences sensibiliseront également le pu
 blic.\n\nIl sera également possible d'acheter des produits sains et natur
 els\, grâce à des exposants proposant des produits locaux et écorespons
 ables.\n\n"Ce forum se veut à la fois convivial et pédagogique\, en perm
 ettant aux visiteurs d’aller à la rencontre de professionnels passionn
 és\, d’obtenir des conseils adaptés\, mais aussi de tester certaines p
 ratiques et de découvrir de nouvelles solutions accessibles à tous"\, pr
 écisent les organisateurs.\n\n L’entrée est libre et gratuite\, "afin 
 de favoriser la participation du plus grand nombre et de permettre à chac
 un de s’informer\, de s’initier et de repartir avec des idées concrè
 tes pour améliorer son bien-être au quotidien".\n\nEn organisant ce foru
 m gratuit chaque année\, le CCAS tient à promouvoir un mode de vie plus 
 sain\, équilibré et solidaire\, "en mettant en avant les ressources loca
 les et en créant un moment d’échanges enrichissants pour l’ensemble 
 des habitants du territoire".\nForum du bien-être\, samedi 25 octobre de 
 10 à 18 heures à la salle polyvalente d'Eppeville. L'entrée est gratuit
 e. Plus d'infos auprès du CCAS de Ham au 03 23 36 20 06.
ATTACH;FMTTYPE=image/jpeg:https://www.ontestepourvousenpicardie.fr/wp-cont
 ent/uploads/2025/09/IMG_5186-scaled-e1758035413982.jpg
CATEGORIES:Nos idées sortie en Picardie
END:VEVENT
BEGIN:VTIMEZONE
TZID:Europe/Paris
X-LIC-LOCATION:Europe/Paris
BEGIN:DAYLIGHT
DTSTART:20250330T030000
TZOFFSETFROM:+0100
TZOFFSETTO:+0200
TZNAME:CEST
END:DAYLIGHT
END:VTIMEZONE
END:VCALENDAR