BEGIN:VCALENDAR
VERSION:2.0
PRODID:-//wp-events-plugin.com//7.2.3.1//EN
TZID:Europe/Paris
X-WR-TIMEZONE:Europe/Paris
BEGIN:VEVENT
UID:120@ontestepourvousenpicardie.fr
DTSTART;TZID=Europe/Paris:20251006T090000
DTEND;TZID=Europe/Paris:20251006T170000
DTSTAMP:20250927T101941Z
URL:https://www.ontestepourvousenpicardie.fr/events/donne-tes-cheveux-pour
 -la-bonne-cause-a-amiens/
SUMMARY:Donne tes cheveux pour la bonne cause\, à Amiens !
DESCRIPTION:Une journée don de cheveux est organisé le lundi 6 octobre au
  CHU d'Amiens (Somme). Pour y participer\, il est important d'avoir 25 cm 
 minimum de cheveux à couper. Ces derniers doivent être naturels\, sans c
 ouleurs\, sans permanente\, sans mèche. Les cheveux doivent également ê
 tre propres du matin.\n\nTrois coiffeuses seront sur place\, parmi lesquel
 les Emmanuelle\, très engagée dans la lutte contre le cancer. L'événem
 ent\, qui aura lieu dans le hall de l'hôpital\, est gratuit.\n\nLes cheve
 ux seront envoyés à l'association Solid'hair. Contrairement à ce que l
 ’on pourrait penser\, les cheveux ne servent pas directement à fabrique
 r des perruques pour les personnes atteintes de cancer. En réalité\, ils
  sont revendus à des professionnels du secteur capillaire (comme des perr
 uquiers).\n\nL’argent récolté grâce à cette revente permet ensuite 
 à l’association de financer l’achat de prothèses capillaires pour de
 s patients en difficulté financière. Autrement dit\, ce n’est pas le c
 heveu lui-même qui est porté\, mais l’argent qu’il rapporte qui perm
 et d’aider des personnes malades à retrouver une perruque adaptée. "L
 a plupart des perruques pour les personnes atteintes d'un cancer sont réa
 lisées en cheveux synthétique\, c'est très beau et naturel si c'est bie
 n fait"\, explique Emmanuelle.\nLundi 6 octobre de 9 à 17 heures au CHU d
 'Amiens. Plus d’infos auprès d'Emmanuelle\, sur sa page Facebook\, son
  compte Instagram\, par mail à emmanuelle.coiffuremixte@gmail.com ou au 0
 3 22 43 14 16.\n\nVous organisez un événement dans le cadre d’Octobre 
 Rose en Picardie ? Nous l’ajoutons gratuitement à cet agenda pour soute
 nir la cause.\n\n👉 Il suffit de nous envoyer les informations par mail 
 à : ontestepourvousenpicardie@gmail.com
ATTACH;FMTTYPE=image/jpeg:https://www.ontestepourvousenpicardie.fr/wp-cont
 ent/uploads/2025/09/scsc-1.png
CATEGORIES:Nos idées sortie en Picardie
END:VEVENT
BEGIN:VTIMEZONE
TZID:Europe/Paris
X-LIC-LOCATION:Europe/Paris
BEGIN:DAYLIGHT
DTSTART:20250330T030000
TZOFFSETFROM:+0100
TZOFFSETTO:+0200
TZNAME:CEST
END:DAYLIGHT
END:VTIMEZONE
END:VCALENDAR