BEGIN:VCALENDAR
VERSION:2.0
PRODID:-//wp-events-plugin.com//7.2.3.1//EN
TZID:Europe/Paris
X-WR-TIMEZONE:Europe/Paris
BEGIN:VEVENT
UID:121@ontestepourvousenpicardie.fr
DTSTART;TZID=Europe/Paris:20251018T093000
DTEND;TZID=Europe/Paris:20251018T173000
DTSTAMP:20250929T144554Z
URL:https://www.ontestepourvousenpicardie.fr/events/de-nombreuses-animatio
 ns-sportives-pour-octobre-rose-a-fort-mahon-plage/
SUMMARY:De nombreuses animations sportives pour Octobre rose à Fort-Mahon-
 Plage
DESCRIPTION:Samedi 18 octobre\, la place Claude-Baillet de Fort-Mahon vibre
 ra au rythme de la solidarité. Dès 9h30\, les habitants et visiteurs son
 t invités à bouger pour la bonne cause avec un réveil musculaire\, suiv
 i d’une séance de Jay Dance à 10h30\, de zumba à 14 heures et de stre
 tching à 15 heures. Le pass journée est proposé au tarif solidaire de 1
 0 euros\, à réserver auprès de l’office de tourisme ou en ligne.\nD
 ’autres animations complètent ce programme sportif : une initiation au 
 Kangoo Jump à 11h30 (10 euros – inscription auprès du Running Club)\, 
 et des baptêmes de char à voile en biplace de 15 heures à 17h30 sur l
 ’esplanade (5 euros). L’intégralité des bénéfices sera reversée 
 à la Ligue contre le cancer de la Somme.\nPlus d'infos auprès de l'offic
 e de tourisme de Fort-Mahon sur le site internet ou au 03 22 23 36 00.\nVo
 us organisez un événement dans le cadre d’Octobre Rose en Picardie ? N
 ous l’ajoutons gratuitement à cet agenda pour soutenir la cause.\n\n\n\
 n👉 Il suffit de nous envoyer les informations par mail à : ontestepour
 vousenpicardie@gmail.com
ATTACH;FMTTYPE=image/jpeg:https://www.ontestepourvousenpicardie.fr/wp-cont
 ent/uploads/2025/09/octobre-rose-sport.jpg
CATEGORIES:Nos idées sortie en Picardie
END:VEVENT
BEGIN:VTIMEZONE
TZID:Europe/Paris
X-LIC-LOCATION:Europe/Paris
BEGIN:DAYLIGHT
DTSTART:20250330T030000
TZOFFSETFROM:+0100
TZOFFSETTO:+0200
TZNAME:CEST
END:DAYLIGHT
END:VTIMEZONE
END:VCALENDAR