BEGIN:VCALENDAR
VERSION:2.0
PRODID:-//wp-events-plugin.com//7.2.3.1//EN
TZID:Europe/Paris
X-WR-TIMEZONE:Europe/Paris
BEGIN:VEVENT
UID:149@ontestepourvousenpicardie.fr
DTSTART;TZID=Europe/Paris:20260425T090000
DTEND;TZID=Europe/Paris:20260425T200000
DTSTAMP:20260420T161459Z
URL:https://www.ontestepourvousenpicardie.fr/events/compiegne-en-danse-une
 -grande-journee-festive-et-gratuite-au-coeur-de-la-ville/
SUMMARY:Compiègne en danse : une grande journée festive et gratuite au c
 œur de la ville
DESCRIPTION:\n\n\n\n\n\nSamedi 25 avril\, le centre-ville de Compiègne (Oi
 se) va se transformer en véritable scène à ciel ouvert à l’occasion 
 de Compiègne en danse. Une journée festive\, accessible à tous\, pour c
 élébrer la danse sous toutes ses formes.\n\n\n\n\n\n\n\n\n\n\nOrganisé 
 dans le cadre de Demain se danse et de la Journée internationale de la da
 nse\, l'événement Compiègne en danse\, porté par Claudiane (C’Move) 
 et Léa de L’danse\, en partenariat avec la Ville de Compiègne et l'Ate
 lier Danse\, promet une ambiance conviviale et dynamique tout au long de l
 a journée.\n"La journée internationale de la danse existe depuis des ann
 ées. Cette fois\, elle tombe le 29 avril\, en pleine semaine et hors vaca
 nces scolaires pour notre zone. C'était donc difficile d'organiser quelqu
 e chose à cette date. Mais la Fédération française de danse a lancé d
 epuis deux ans Demain se danse\, afin de programmer des événements un pe
 u partout en France\, la semaine qui précède"\, explique Claudiane.\n\nQ
 uatre espaces\, quatre ambiances\nElle a décidé\, avec Léa qui comme el
 le donne des cours à L'Atelier Danse\, d'organiser une journée entièrem
 ent consacrée à la danse à Compiègne. "Depuis deux ans\, il y a un év
 énement à Amiens\, mais dans l'Oise\, rien n'était proposé. Et à Comp
 iègne\, il y a un gros public qui pratique différents types de danses. O
 n a donc décidé d'organiser une journée complète."\nPensé comme une 
 “fête de la musique version danse”\, l’événement investira plusie
 urs lieux du centre-ville avec quatre espaces et quatre ambiances différe
 ntes\, pour permettre à chacun de découvrir\, tester et profiter à son 
 rythme. "L'idée est de faire connaître un petit peu ce qui se passe à l
 'Atelier\, mais surtout de proposer à différentes associations et école
 s des environs de participer. On a envie aussi de promouvoir les compagnie
 s semi professionnelles et professionnelles locales\, et notamment dans le
  Compiégnois."\n\nUne barre géante\nAu programme : démonstrations\, ini
 tiations\, flash mobs\, défilé\, spectacle\, ateliers… (programme à r
 etrouver ci-dessous). Une journée pour vibrer\, participer ou simplement 
 profiter du spectacle. Salsa\, country\, hip-hop\, jazz... Tous les styles
  de danse seront à l'honneur. Une barre géante sera même installée pla
 ce de l'Hôtel-de-Ville et ouverte à tous. "C'est quelque chose qui a lie
 u dans des grosses villes de France mais qui sera à Compiègne pour la pr
 emière fois." Un professeur diplômé sera sur place et tout le monde pou
 rra venir avec une paire de tennis. \nCompiègne en danse est un événem
 ent fédérateur et accessible à tous. Que vous soyez passionné de danse
  ou simplement curieux\, vous pourrez participer\, découvrir ou profiter 
 d’une ambiance festive en plein cœur de Compiègne. La Savonnerie de Pi
 errefonds sera présente\, avec la création d'une toute nouvelle gamme\, 
 pensée pour la danse... Une boutique parisienne entièrement consacrée 
 à la danse sera également sur place\, avec des articles à petits prix.\
 n\nUn concours de dessins\nÀ l’occasion de cette journée\, un concours
  de dessins intitulé « Dessine la danse » est également proposé\, ouv
 ert à tous les âges\, des plus jeunes aux adultes. Chacun est invité à
  laisser parler sa créativité autour du thème de la danse. Les particip
 ants pourront déposer leur réalisation ce samedi 25 avril\, entre 10 heu
 res et midi au stand installé devant l’Hôtel-de-Ville\, ou entre 14 et
  17 heures à l’Atelier Danse. Les résultats du concours seront annonc
 és le mercredi 29 avril à 19 heures\, dans les locaux de l’Atelier Dan
 se. De très beaux lots sont à gagner.\nPour conclure cette belle journé
 e\, un spectacle est prévu à 18h45 sur la place de l'Hôtel-de-Ville\, a
 vec les élèves de C'move et L'Danse en première partie. Elles laisseron
 t ensuite place aux aux professionnelles : une compagnie contemporaine et 
 une compagnie de comédies musicale. "C'est la première édition mais on 
 espère bien qu'il y en aura d'autres\, que l'événement pourra grossir."
  On n'en doute pas !\n\nSamedi 25 avril dans le centre-ville de Compiègne
  (Place de l’Hôtel-de-Ville\, Place du Change\, Marché aux herbes\, At
 elier Danse). Evénement entièrement gratuit. Les animations extérieures
  sont en accès libre. Pour les cours à l’Atelier Danse\, il est viveme
 nt conseillé de réserver : perraginlea@outlook.fr\nPlus d'infos sur le c
 ompte Instagram de Claudiane\, le compte Instagram de L'Atelier Danse\, la
  page Facebook de C'Move\, la page Facebook L'Danse\, et la page Facebook 
 de l'Atelier Danse.\n-----------\n\nUn programme riche tout au long de la 
 journée\nPlace de l’Hôtel de Ville\n- 9h45 : Flash mob\n- 10h30 : Barr
 e géante (ouverte à tous\, venez en baskets !)\n- 11h30 : Démonstration
  dansée\n- De 14 heures à 14h45 : Démonstration country\n- De 15 à 16 
 heures : Initiation hip-hop\n- De 16 heures à 16h15 : Démonstration hip-
 hop\n- De 17h30 à 18 heures : Démonstration dansée\n- 18h45 : Spectacle
 \nMarché aux herbes\n- 12h15 : Défilé et tableaux dansés\nPlace du Cha
 nge\n- De 15 à 16 heures : Initiation country\n- De 16 à 17 heures : Ini
 tiation salsa\n- De 17 à 18 heures : Danses libres latines\nAtelier Danse
  (4 rue Pasteur)\n- 13h00 : Flash mob\n- De 13h30 à14h15 : Danse de carac
 tère\n- De 14h30 - 15h20 : Danse inclusive (sur réservation)\n- De 14h30
  - 15h20 : Jazz\n- De 15h30 - 16h15 : Danse douce\n- De 15h30 - 16h15 : Zu
 mba kids\n- De 16h30 - 17h20 : Port de bras\n- De 16h30 - 17h15 : POM POM 
 kids\n- De 17 heures à 18h20 : Danse en ligne\n- De 17h30 - 18h15 : Ateli
 er parents/enfants\n\n\nVous souhaitez annoncer votre événement dans not
 re agenda en ligne et sur nos réseaux sociaux ?\nEcrivez-nous à ontestep
 ourvousenpicardie@gmail.com\n\n\n\n\n\n\n\n\n\n\n\n\n\n
ATTACH;FMTTYPE=image/jpeg:https://www.ontestepourvousenpicardie.fr/wp-cont
 ent/uploads/2026/04/ChatGPT-Image-20-avr.-2026-14_57_40.png
CATEGORIES:Nos idées sortie en Picardie
END:VEVENT
BEGIN:VTIMEZONE
TZID:Europe/Paris
X-LIC-LOCATION:Europe/Paris
BEGIN:DAYLIGHT
DTSTART:20260329T030000
TZOFFSETFROM:+0100
TZOFFSETTO:+0200
TZNAME:CEST
END:DAYLIGHT
END:VTIMEZONE
END:VCALENDAR