BEGIN:VCALENDAR
VERSION:2.0
PRODID:-//wp-events-plugin.com//7.2.3.1//EN
TZID:Europe/Paris
X-WR-TIMEZONE:Europe/Paris
BEGIN:VEVENT
UID:118@ontestepourvousenpicardie.fr
DTSTART;TZID=Europe/Paris:20251001T000000
DTEND;TZID=Europe/Paris:20251031T000000
DTSTAMP:20250928T110503Z
URL:https://www.ontestepourvousenpicardie.fr/events/coiffeuse-et-engagee-e
 mmanuelle-cree-un-calendrier-pour-accompagner-les-femmes-atteintes-de-canc
 er/
SUMMARY:Coiffeuse et engagée\, Emmanuelle crée un calendrier pour accompa
 gner les femmes atteintes de cancer
DESCRIPTION:Emmanuelle est coiffeuse spécialisée en oncologie\, prothési
 ste capillaire et mammaire. La lutte contre le cancer et l'accompagnement 
 des femmes dans cette épreuve\, elle en a fait sa cause et bien plus enco
 re\, son métier. "J'accompagne les femmes pour pallier aux effets seconda
 ires lors de traitements ou d'opérations."\n\nAlors forcément\, pour Oct
 obre rose\, Emmanuelle tient toujours à organiser quelque chose. "L'an de
 rnier\, c'était un défilé." Cette année\, elle a choisi de réaliser u
 n calendrier\, avec une photographe professionnelle\, Anaïs\, et des femm
 es qui ont accepté de poser. Tous les bénéfices seront reversés à l'E
 space ressource cancer et à la Ligue contre le cancer.\nIl y a la maladie
 \, mais aussi le fait d'avancer dans d'autres choses. Quoi qu'il arrive\, 
 il ne faut pas s'arrêter\, c'est un beau message.\nCe calendrier\, elle a
  décidé de l'appeler "Avancer". Un mot positif\, rempli d'espoir. "Toute
 s les photos qu'on a réalisées montre qu'on avance : une femme nage\, un
 e est en voiture\, à cheval\, sur une bouée..." La couverture\, sur laqu
 elle figure trois photos d'une même personne\, de la maladie à la guéri
 son\, renvoie aussi un vrai message positif. "Il y a la maladie\, mais aus
 si le fait d'avancer dans d'autres choses. Quoi qu'il arrive\, il ne faut 
 pas s'arrêter\, c'est un beau message."\nUne thérapie par la photo\nTroi
 s journées de shooting ont été nécessaires. "Une femme d'un certain â
 ge pose\, par exemple\, sur une trottinette\, je voulais que ce soit déca
 lé ! Elle porte donc un tutu rose. Elle a tout de suite accepté\, en m'e
 xpliquant qu'avant\, elle était un boute-en-train qui faisait toujours la
  fête\, qu'elle avait perdu cela\, et qu'en posant\, ce serait un vrai pi
 ed de nez ! Chaque femme a sa façon de représenter son pansement. Une au
 tre marche avec son chien\, qui est sa thérapie\, elle tenait à ce qu'il
  soit avec elle !"\n\nDerrière ce calendrier\, il n'y a pas que l'objecti
 f des ventes et de reverser de l'argent aux associations. "C'est aussi une
  thérapie par la photo. Avec Anaïs\, on a choisi trois clichés par pers
 onne\, et elles ne savent pas encore laquelle sera choisie pour le calendr
 ier ! On leur offrira par mail\, elle pourront l'imprimer\, l'encadrer."\n
 \nLes calendriers sont déjà en vente dans plusieurs commerces\, et bien 
 sûr dans le salon d'Emmanuelle. Son but est de multiplier au maximum les 
 points de vente\, afin de le rendre accessible au plus de monde possible.\
 nUn vrai accompagnement\nEmmanuelle a travaillé en salon durant trente an
 s à Amiens. "Je me suis lancée il y a douze ans lorsque ma mère a été
  touchée par un cancer. Tout s'est bien passé\, elle est toujours là ! 
 Quand elle a eu besoin d'une perruque\, je l'ai accompagnée. Quand on est
  allé lui acheter une perruque\, j'ai remarqué que c'était de la vente\
 , pas un accompagnement. Alors j'ai eu envie d'aider les gens\, par mon sa
 voir-faire."\n\n&nbsp\;\n\nEmmanuelle sublime donc les femmes\, "quand ell
 es n'ont pas de problèmes\, mais aussi quand elles en ont le plus besoin.
 " Elle propose ainsi des perruques\, prothèses mammaires\, soutien-gorge.
  "Ce n'est pas parce qu'on s’est fait opérer qu’on ne peut plus avoir
  sous-vêtements sexy." Quant à la perruque\, "je peux la recouper\, la t
 ransformer". Bref\, un accompagnement complet.\nUn salon pour se sentir bi
 en\nDepuis un an et demi\, Emmanuelle a déménagé à Fresnoy-au-Val (Som
 me)\, dans une des dépendances de sa maison. "Ca a un côté plus cocooni
 ng\, plus privé. Il n'y a pas de vitrine\, il faut vraiment avoir rendez-
 vous pour venir. Les clientes ont encore plus de tranquillité\, et ça pe
 ut les rassurer pour le côté prothèse."\n\nEmmanuelle a d'ailleurs ét
 é la première coiffeuse à récolter les cheveux de ses clientes pour le
 s dons. "Aucun cheveux ne part à la poubelle. Tout ce qui est coupé au s
 ol part chez Coiffeurs justes\, pour dépolluer les océans et les cheveux
  de plus de 25 cm sont destinés à Solid'hair."\nLéa\n\nEmmanuelle coiff
 ure\, 27 rue de Motte à Fresnoy-au-Val. Les calendriers sont vendus à 15
  euros. Plus d'infos sur sa page Facebook\, son compte Instagram\, par mai
 l à emmanuelle.coiffuremixte@gmail.com ou au 03 22 43 14 16.\nhttps://www
 .ontestepourvousenpicardie.fr/octobre-rose-2025-en-picardie-tous-les-evene
 ments-et-actions-solidaires/\n\nhttps://www.ontestepourvousenpicardie.fr/e
 vents/donne-tes-cheveux-pour-la-bonne-cause-a-amiens/
ATTACH;FMTTYPE=image/jpeg:https://www.ontestepourvousenpicardie.fr/wp-cont
 ent/uploads/2025/09/9432dd20-22af-4ff0-962a-bec643aa946a.jpeg
CATEGORIES:Nos bons plans en Picardie
END:VEVENT
BEGIN:VTIMEZONE
TZID:Europe/Paris
X-LIC-LOCATION:Europe/Paris
BEGIN:DAYLIGHT
DTSTART:20250330T030000
TZOFFSETFROM:+0100
TZOFFSETTO:+0200
TZNAME:CEST
END:DAYLIGHT
BEGIN:STANDARD
DTSTART:20251026T020000
TZOFFSETFROM:+0200
TZOFFSETTO:+0100
TZNAME:CET
END:STANDARD
END:VTIMEZONE
END:VCALENDAR