BEGIN:VCALENDAR
VERSION:2.0
PRODID:-//wp-events-plugin.com//7.2.3.1//EN
TZID:Europe/Paris
X-WR-TIMEZONE:Europe/Paris
BEGIN:VEVENT
UID:129@ontestepourvousenpicardie.fr
DTSTART;TZID=Europe/Paris;VALUE=DATE:20251001
DTEND;TZID=Europe/Paris;VALUE=DATE:20251101
DTSTAMP:20251007T095621Z
URL:https://www.ontestepourvousenpicardie.fr/events/cecile-propose-une-sea
 nce-boudoir-intime-et-bienveillante-pour-octobrerrose/
SUMMARY:Cécile propose des séances boudoir intimes et bienveillantes pour
  Octobre rose
DESCRIPTION:A l'occasion d'Octobre rose\, Cécile\, photographe professionn
 elle\, offre une réduction de 20% sur la réservation d'une séance boudo
 ir\, tout au long du mois d'octobre. L'occasion de s'offrir un moment pour
  soi\, tout en douceur et bienveillance. La séance boudoir se déroule en
  toute intimité. Le moment commencera par quelques échanges\, afin de me
 ttre la personne à l'aise et en confiance. "La séance offre un moment de
  temps suspendu et de déconnexion. Il met en valeur le corps humain à tr
 avers des jeux de lumière." La photographe se déplace à domicile\, mais
  il est également possible de réserver un logement Airbnb pour l’occas
 ion\, ou même d’opter pour une séance en extérieur. La lingerie est 
 à prévoir.\nSéance boudoir par Les Photos de Cécile. Tarifs \; 136 eur
 os les 10 photos (au lieu de 170) et 172 euros les 15 photos. Frais kilom
 étriques à ajouter au-delà de 20 km d'Amiens.\n\nVous organisez un év
 énement dans le cadre d’Octobre Rose en Picardie ? Nous l’ajoutons gr
 atuitement à cet agenda pour soutenir la cause.\n\n\n\n👉 Il suffit de 
 nous envoyer les informations par mail à : ontestepourvousenpicardie@gmai
 l.com\n
ATTACH;FMTTYPE=image/jpeg:https://www.ontestepourvousenpicardie.fr/wp-cont
 ent/uploads/2025/10/WhatsApp-Image-2025-10-07-at-11.53.43.jpeg
CATEGORIES:Nos bons plans en Picardie
END:VEVENT
BEGIN:VTIMEZONE
TZID:Europe/Paris
X-LIC-LOCATION:Europe/Paris
BEGIN:DAYLIGHT
DTSTART:20250330T030000
TZOFFSETFROM:+0100
TZOFFSETTO:+0200
TZNAME:CEST
END:DAYLIGHT
BEGIN:STANDARD
DTSTART:20251026T020000
TZOFFSETFROM:+0200
TZOFFSETTO:+0100
TZNAME:CET
END:STANDARD
END:VTIMEZONE
END:VCALENDAR