BEGIN:VCALENDAR
VERSION:2.0
PRODID:-//wp-events-plugin.com//7.2.3.1//EN
TZID:Europe/Paris
X-WR-TIMEZONE:Europe/Paris
BEGIN:VEVENT
UID:140@ontestepourvousenpicardie.fr
DTSTART;TZID=Europe/Paris;VALUE=DATE:20251128
DTEND;TZID=Europe/Paris;VALUE=DATE:20251201
DTSTAMP:20251128T192221Z
URL:https://www.ontestepourvousenpicardie.fr/events/black-friday-reduction
 -exceptionnelle-pour-dormir-dans-le-petit-cocon-de-la-baie/
SUMMARY:Black Friday : réduction exceptionnelle pour dormir dans le Petit 
 Cocon de la baie
DESCRIPTION:Pour le Black Friday\, jusqu'au 30 novembre\, Le Petit Cocon de
  la baie propose une belle réduction et vous offre 30 % sur tous les séj
 ours de plus de deux nuits\, réservés du 15 janvier au 15 mars. A 63 eur
 os la nuit au lieu de 90\, c'est l'occasion parfaite pour profiter d'un be
 au séjour à petit prix en baie de Somme\, à Saint-Valery-sur-Somme.\n\n
 Le Petit Cocon de la baie est proposé à la location depuis début octobr
 e. "Je suis un enfant de la région et j'aime énormément la baie de Somm
 e. Je voulais proposer un lieu qui me ressemble et qui reflète la baie"\,
  explique Lucas.\n\nCet appartement flambant neuf a été aménagé et dé
 coré avec des éléments durables et respectueux de l'environnement. "On 
 a voulu pousser plus loin encore ce côté environnement avec la mise à d
 isposition de consommables biodégradables\, des appareils économes en ea
 u et de l'électricité verte pour faire fonctionner tout ça. On met auss
 i en avant nos producteurs\, artisans\, et commerçant locaux."\nUne belle
  occasion de s’évader dans un cocon responsable\, au plus près de l’
 âme authentique de la baie de Somme.\n\nLe Petit Cocon de la baie\, appar
 tement 3 étoiles au coeur de la baie de Somme\, au 243 rue Saint-Pierre 
 à Saint-Valery-sur-Somme. Plus d'infos sur leur site internet ou leur com
 pte Instagram.
ATTACH;FMTTYPE=image/jpeg:https://www.ontestepourvousenpicardie.fr/wp-cont
 ent/uploads/2025/11/WhatsApp-Image-2025-11-28-at-20.15.56.jpeg
CATEGORIES:Nos bons plans en Picardie
END:VEVENT
BEGIN:VTIMEZONE
TZID:Europe/Paris
X-LIC-LOCATION:Europe/Paris
BEGIN:STANDARD
DTSTART:20251026T020000
TZOFFSETFROM:+0200
TZOFFSETTO:+0100
TZNAME:CET
END:STANDARD
END:VTIMEZONE
END:VCALENDAR