BEGIN:VCALENDAR
VERSION:2.0
PRODID:-//wp-events-plugin.com//7.2.3.1//EN
TZID:Europe/Paris
X-WR-TIMEZONE:Europe/Paris
BEGIN:VEVENT
UID:99@ontestepourvousenpicardie.fr
DTSTART;TZID=Europe/Paris:20251104T180000
DTEND;TZID=Europe/Paris:20251104T193000
DTSTAMP:20250916T133902Z
URL:https://www.ontestepourvousenpicardie.fr/events/bien-etre-et-sante-men
 tale-organise-un-evenement-gratuit-a-monchy-lagache/
SUMMARY:Bien-être et Santé Mentale organise un événement gratuit à Mon
 chy-Lagache
DESCRIPTION:L'association Bien-Être et Santé Mentale organise cet automne
  un cycle de rendez-vous bien-être intitulé "Prenez soin de vous... Prè
 s de chez vous". "Le but est de faire connaître à la population les diff
 érents métiers autour de la santé mentale sur le territoire de la commu
 nauté de communes de l'Est de la Somme"\, explique Nathalie.\n\nTrois év
 énements gratuits et ouverts à tous (adultes uniquement) seront donc org
 anisés à Ham\, Nesle et Monchy-Lagache. "Les gens vont venir pendant une
  heure et demie découvrir trois pratiques\, différentes à chaque date. 
 Chacun passera dans chaque atelier et pourra profiter d'une découverte."\
 n\nAprès un petit temps d'accueil et une présentation de l'association\,
  chaque petit groupe profitera des ateliers. Objectif : découvrir comment
  prendre soin de soi\, se ressourcer et renforcer son équilibre personnel
 .\n\nA Monchy-Lagache\, le rendez-vous est donné mardi 4 novembre à 18 h
 eures.\n\nL'association Bien-Être et Santé Mentale existe depuis un an. 
 Son but est de regrouper les différents professionnels autour de ces doma
 ines\, et leur permettre d'intervenir dans d'autres associations\, entrepr
 ises\, écoles... "Je suis sophrologue et je trouvais que l'on manquait un
  peu de visibilité sur le territoire\, on se sent un peu seule quand on f
 ait ces métiers. J'avais envie de créer un groupe\, pouvoir partager des
  astuces. L'association permet à chaque professionnel de se faire connaî
 tre\, d'avoir de la visibilité et d'intervenir dans différents lieux"\, 
 explique Nathalie.\n\nUn autre événement est en cours de préparation à
  la médiathèque de Ham\, pour le mois de mars\, toujours autour du bien-
 être bien sûr\, mais aussi du monde du livre.\nLéa\n\nInscriptions aupr
 ès de la médiathèque de Monchy-Lagache ou directement sur Hello asso\, 
 où vous pouvez télécharger votre ticket gratuit.\nPlus d'infos sur l'as
 sociation Bien-Être et Santé Mentale au 06 48 09 92 55\, sur son site in
 ternet\, sur sa page Facebook ou son compte Instagram.\nVous aussi\, annon
 cez votre événement dans notre agenda en ligne et sur nos réseaux socia
 ux.\nRendez-vous ici.
ATTACH;FMTTYPE=image/jpeg:https://www.ontestepourvousenpicardie.fr/wp-cont
 ent/uploads/2025/09/ChatGPT-Image-16-sept.-2025-15_11_56-e1758028374281.pn
 g
CATEGORIES:Nos idées sortie en Picardie
END:VEVENT
BEGIN:VTIMEZONE
TZID:Europe/Paris
X-LIC-LOCATION:Europe/Paris
BEGIN:STANDARD
DTSTART:20251026T020000
TZOFFSETFROM:+0200
TZOFFSETTO:+0100
TZNAME:CET
END:STANDARD
END:VTIMEZONE
END:VCALENDAR