BEGIN:VCALENDAR
VERSION:2.0
PRODID:-//wp-events-plugin.com//7.2.3.1//EN
TZID:Europe/Paris
X-WR-TIMEZONE:Europe/Paris
BEGIN:VEVENT
UID:126@ontestepourvousenpicardie.fr
DTSTART;TZID=Europe/Paris:20251018T100000
DTEND;TZID=Europe/Paris:20251019T180000
DTSTAMP:20251006T134206Z
URL:https://www.ontestepourvousenpicardie.fr/events/bien-etre-et-convivial
 ite-au-rendez-vous-du-premier-salon-de-lharmonie-a-gauchy/
SUMMARY:Bien-être et convivialité au rendez-vous du premier Salon de l’
 Harmonie à Gauchy
DESCRIPTION:La première édition du Salon de l'Harmonie Coeur Corps Esprit
  se tiendra le week-end des 18 et 19 octobre de 10 à 18 heures à Gauchy.
  Le rendez-vous est donné à la salle polyvalente\, et l'entrée est grat
 uite.\n\nUne vingtaine d'exposants seront présents samedi 18 et 19 octobr
 e à Gauchy (Aisne). Ils représenteront diverses pratiques : hypnothérap
 ie\, sophrologie\, énergétique\, naturopathie\, lithothérapie\, soins e
 sthétiques et de beauté\, médiumnité\, yoga\, qi gong\, produits natur
 els\, herboristerie\, ainsi qu’une boutique ésotérique de Saint-Quenti
 n.\n\n"L'objectif\, c'est de donner de la visibilité aux personnes de Gau
 chy\, Saint-Quentin et des alentours. Pour deux-tiers d'entre elles\, ce s
 era leur premier salon !" Sept exposants seront de Gauchy. "Je tiens à ce
  qu'il y ait une ambiance familiale\, accueillante\, et beaucoup d'échang
 es entre les partenaires. J'ai contacté plus de 70 personnes\, je souhait
 ais travailler avec des personnes que je connais et rencontrer les autres.
  J'ai passé plus d'une heure avec chacune\, pour connaître leurs prestat
 ions."\n\nCoach de vie personnelle et professionnelle\, Coralie a créé s
 a société il y a bientôt trois ans. à Gauchy\, Shakti Harmonie. "J'ac
 compagne aussi sur le bien-être\, je propose beaucoup de prestations diff
 érentes. Et pour faire connaître mon expérience\, j'ai participé à de
  nombreux salons la première année. J'ai fait beaucoup de rencontres\, c
 'était très enrichissant." Mais l'an dernier\, Coralie a été quelque 
 peu déçue en participant à d'autres salons. "Je ne retrouvais plus cett
 e complicité que je pouvais avoir avec d'autres participants\, cette éne
 rgie positive\, cet accueil bienveillant. Ça se ressentait aussi au nivea
 u du public."\nJe tiens à ce qu’il y ait une ambiance familiale\, chale
 ureuse\, et de vrais échanges entre les partenaires.\nFace à ce constat\
 , elle a choisi de lancer son propre salon\, « organisé avec bienveillan
 ce\, pour accueillir le public dans un bon état d’esprit\, et non de ma
 nière commerciale ». Coralie insiste : « Je tiens à ce qu’il y ait u
 ne ambiance familiale\, chaleureuse\, et de vrais échanges entre les part
 enaires. »\n\nSoins\, ateliers\, conférences et salon de thé\nCoralie a
  pensé à chaque détail\, notamment en aménageant un espace soins un pe
 u plus intimiste\, à l'écart des visiteurs. Une salle sera également co
 nsacrée aux ateliers et conférences organisés par les professionnels to
 ut au long de la journée. Enfin un dernier espace proposera un univers sa
 lon de thé\, zen et créatif\, avec "de la belle vaisselle et de bons pet
 its gâteaux". Un endroit cocooning pour "se poser un peu et profiter du m
 oment". Des activités créatives seront également proposées.\n\nCoralie
  tient réellement à proposer une ambiance différente au sein de ce salo
 n avec des partenaires très locaux. Le salon est co-organisé avec l'asso
 ciation La Solution par l'événement et en partenariat avec la ville de G
 auchy.\nLéa\n\nPremière édition du Salon de l'Harmonie Coeur Corps Espr
 it\, samedi 18 et dimanche 19 octobre 2025 de 10 à 18 heures\, à la sall
 e polyvalente de Gauchy\, 93\, rue Pierre-Semard. Entrée gratuite\, parki
 ng. Plus d'infos sur sa page Facebook\, par mail à Coralie@shakti-harmoni
 e.com ou sur son site internet.
ATTACH;FMTTYPE=image/jpeg:https://www.ontestepourvousenpicardie.fr/wp-cont
 ent/uploads/2025/10/553585014_830178506240278_5991026106671379950_n.jpg
CATEGORIES:Nos idées sortie en Picardie
END:VEVENT
BEGIN:VTIMEZONE
TZID:Europe/Paris
X-LIC-LOCATION:Europe/Paris
BEGIN:DAYLIGHT
DTSTART:20250330T030000
TZOFFSETFROM:+0100
TZOFFSETTO:+0200
TZNAME:CEST
END:DAYLIGHT
END:VTIMEZONE
END:VCALENDAR