BEGIN:VCALENDAR
VERSION:2.0
PRODID:-//wp-events-plugin.com//7.2.3.1//EN
TZID:Europe/Paris
X-WR-TIMEZONE:Europe/Paris
BEGIN:VEVENT
UID:132@ontestepourvousenpicardie.fr
DTSTART;TZID=Europe/Paris;VALUE=DATE:20251001
DTEND;TZID=Europe/Paris;VALUE=DATE:20251101
DTSTAMP:20251019T134804Z
URL:https://www.ontestepourvousenpicardie.fr/events/a-saint-simon-helene-n
 aturopathe-sengage-pour-octobre-rose-avec-des-t-shirts-solidaires/
SUMMARY:À Saint-Simon\, Hélène\, naturopathe\, s’engage pour Octobre R
 ose avec des t-shirts solidaires
DESCRIPTION:À Saint-Simon\, la naturopathe Hélène a décidé d’allier 
 engagement écologique et cause solidaire à l’occasion d’Octobre Rose
 . Sensible à la seconde main et au recyclage\, elle a imaginé une série
  de t-shirts récupérés et personnalisés\, porteurs d’un message insp
 irant : « Semer le bien-être\, récolter l’espoir. »\n« En tant que 
 naturopathe\, semer des graines de bien-être fait partie de ma philosophi
 e »\, explique-t-elle. Hélène a perdu plusieurs proches à cause du can
 cer et garde en mémoire une patiente venue au cabinet où elle travaille 
 en parallèle de son activité de naturopathe\, soutenue par l’associati
 on Diamant Rose. C’est pour elle\, et pour toutes les femmes touchées\,
  qu’elle a souhaité agir concrètement.\nLes t-shirts\, vendus 10 euros
  pièce\, sont disponibles en quantité limitée. Les bénéfices seront i
 ntégralement reversés à l’association Diamant Rose à la fin du mois.
  La moitié du stock a été offerte par Manoute\, friperie de Jussy. Plus
 ieurs modèles y sont d'ailleurs en vente. Un live permettra de présenter
  les modèles encore disponibles et de sensibiliser le public.\n« Seconde
  main pour seconde vie »\, résume Hélène\, convaincue que chaque geste
  compte. En complément\, elle a distribué des dépliants de prévention 
 pour encourager les femmes à se palper régulièrement. Une belle manièr
 e d’unir écologie\, bienveillance et solidarité.\n\n\nHélène naturop
 athe\, 4\, rue de Clastres à Saint-Simon. Hélène propose des bons cadea
 ux. Il est possible de réserver directement en ligne\, sur son site inter
 net. Plus d’infos sur son site internet\, sa page Facebook\, son comp
 te Instagram\, au 06 85 56 77 34\n\nVous organisez un événement dans le 
 cadre d’Octobre Rose en Picardie ? Nous l’ajoutons gratuitement à cet
  agenda pour soutenir la cause.\n Il suffit de nous envoyer les informati
 ons par mail à : ontestepourvousenpicardie@gmail.com
ATTACH;FMTTYPE=image/jpeg:https://www.ontestepourvousenpicardie.fr/wp-cont
 ent/uploads/2025/10/IMG_8303-scaled.jpg
CATEGORIES:Nos bons plans en Picardie
END:VEVENT
BEGIN:VTIMEZONE
TZID:Europe/Paris
X-LIC-LOCATION:Europe/Paris
BEGIN:DAYLIGHT
DTSTART:20250330T030000
TZOFFSETFROM:+0100
TZOFFSETTO:+0200
TZNAME:CEST
END:DAYLIGHT
BEGIN:STANDARD
DTSTART:20251026T020000
TZOFFSETFROM:+0200
TZOFFSETTO:+0100
TZNAME:CET
END:STANDARD
END:VTIMEZONE
END:VCALENDAR