BEGIN:VCALENDAR
VERSION:2.0
PRODID:-//wp-events-plugin.com//7.2.3.1//EN
TZID:Europe/Paris
X-WR-TIMEZONE:Europe/Paris
BEGIN:VEVENT
UID:131@ontestepourvousenpicardie.fr
DTSTART;TZID=Europe/Paris;VALUE=DATE:20251019
DTEND;TZID=Europe/Paris;VALUE=DATE:20251101
DTSTAMP:20251019T100048Z
URL:https://www.ontestepourvousenpicardie.fr/events/a-gauchy-des-bijoux-po
 ur-soutenir-la-lutte-contre-le-cancer-du-sein/
SUMMARY:À Gauchy\, des bijoux pour soutenir la lutte contre le cancer du s
 ein
DESCRIPTION:"J'ai commencé mon activité en 2021 et tout naturellement\, j
 'ai recherché une association pour m'engager pour Octobre rose." Gwendoly
 ne\, créatrice de bijoux en pierres naturelles à Gauchy\, a rapidement c
 ontacté l'association Diamant rose\, qui se trouve dans sa commune. "Je c
 réé beaucoup de bracelets que je personnalise en fonction des besoins de
  la personne. Et même si je venais de me lancer\, j'ai voulu participer. 
 Depuis\, je le fais chaque année."\n\nPour chaque vente réalisée\, quel
  qu'en soit le montant\, Gwendolyne reverse 2 euros à l'association. "J'o
 rganise également un jeu à côté pour remercier les personnes qui parti
 cipent." Dès 15 euros d'achat\, il est possible de gagner une carte Illic
 ado. Pour compléter sa collection\, la créatrice a également ajouté qu
 elques boucles d'oreilles et colliers roses. "Je propose des prix très ra
 isonnables\, et je fais travailler des indépendants comme moi."\nLéa\n\n
 Vous pouvez retrouver Gwendolyne sur de nombreux événements du Saint-Que
 ntinois\, ou chez elle dans son petit chalet. Plus d'infos sur sa page Fac
 ebook\, son site internet ou son compte Instagram.\nVous organisez un év
 énement dans le cadre d’Octobre Rose en Picardie ? Nous l’ajoutons gr
 atuitement à cet agenda pour soutenir la cause.\n Il suffit de nous envo
 yer les informations par mail à : ontestepourvousenpicardie@gmail.com
ATTACH;FMTTYPE=image/jpeg:https://www.ontestepourvousenpicardie.fr/wp-cont
 ent/uploads/2025/10/image-1.png
CATEGORIES:Nos bons plans en Picardie
END:VEVENT
BEGIN:VTIMEZONE
TZID:Europe/Paris
X-LIC-LOCATION:Europe/Paris
BEGIN:DAYLIGHT
DTSTART:20250330T030000
TZOFFSETFROM:+0100
TZOFFSETTO:+0200
TZNAME:CEST
END:DAYLIGHT
BEGIN:STANDARD
DTSTART:20251026T020000
TZOFFSETFROM:+0200
TZOFFSETTO:+0100
TZNAME:CET
END:STANDARD
END:VTIMEZONE
END:VCALENDAR