BEGIN:VCALENDAR
VERSION:2.0
PRODID:-//wp-events-plugin.com//7.2.3.1//EN
TZID:Europe/Paris
X-WR-TIMEZONE:Europe/Paris
BEGIN:VEVENT
UID:143@ontestepourvousenpicardie.fr
DTSTART;TZID=Europe/Paris:20251213T100000
DTEND;TZID=Europe/Paris:20251213T120000
DTSTAMP:20251205T105717Z
URL:https://www.ontestepourvousenpicardie.fr/events/53866/
SUMMARY:Petit déjeuner parfumé à Compiègne : découverte des parfums et
  cosmétiques Chogan chez Nougatine
DESCRIPTION:Un petit déjeuner parfumé sera proposé samedi 13 décembre a
 u Cloître Saint-Corneille\, à Compiègne (Oise)\, chez Nougatine. L’é
 vénement est organisé par Charlotte\, conseillère Chogan\, spécialisé
 e dans les parfums inspirés de grandes marques et les cosmétiques.\nDe 1
 0 heures à midi\, les participants seront invités à profiter d’un mom
 ent de détente et d’échanges dans une atmosphère conviviale. Ce rende
 z-vous offrira l’occasion de découvrir une sélection de fragrances\, d
 e produits de beauté ainsi que plusieurs idées cadeaux\, particulièreme
 nt appréciées à l’approche des fêtes. Autour d’un café et de vien
 noiseries\, Charlotte présentera son univers et répondra aux questions d
 es visiteurs.\nAu menu\, mini viennoiserie\, granola bowl aux fruits\, bri
 oche Babka\, oeufs brouillés à la ciboulette\, café ou petit chocolat e
 t jus d'orange pressé\, pour la somme de 16 euros.\n\nPetit-déjeuner par
 fumé\, 9 rue Saint-Corneille\, à Compiègne\, samedi 13 décembre de 10 
 heures à midi. Les réservations sont recommandées et peuvent être eff
 ectuées au 07 83 63 63 98.\nVous aussi\, annoncez votre événement dans 
 notre agenda en ligne et sur nos réseaux sociaux.\nRendez-vous ici.
ATTACH;FMTTYPE=image/jpeg:https://www.ontestepourvousenpicardie.fr/wp-cont
 ent/uploads/2025/12/WhatsApp-Image-2025-12-05-at-11.40.50.jpeg
CATEGORIES:Nos idées sortie en Picardie
END:VEVENT
BEGIN:VTIMEZONE
TZID:Europe/Paris
X-LIC-LOCATION:Europe/Paris
BEGIN:STANDARD
DTSTART:20251026T020000
TZOFFSETFROM:+0200
TZOFFSETTO:+0100
TZNAME:CET
END:STANDARD
END:VTIMEZONE
END:VCALENDAR